BEGIN:VCALENDAR
VERSION:2.0
PRODID:-//wp-events-plugin.com//7.2.3.1//EN
TZID:Australia/Sydney
X-WR-TIMEZONE:Australia/Sydney
BEGIN:VEVENT
UID:2348@unswoc.org
DTSTART;VALUE=DATE:20181125
DTEND;VALUE=DATE:20181126
DTSTAMP:20181123T003933Z
URL:https://unswoc.org/wordpress/events/bl-sunday-climbing-shipley-upper/
SUMMARY:[TRIP FULL] BL Sunday - Climbing at Shipley Upper
DESCRIPTION:&nbsp\;\n\nCam and I will be leading a climbing trip to Shipley
  Upper in the Blue Mountains on the Sunday of Boree Log.\n\nNo climbing ex
 perience is required as we’ll set up top ropes. The easiest climbs are g
 rade 17 and 18 and there are some great 20-22 climbs for those keen.\n\nW
 e will need 2 cars (i.e. 10 spots) to drive to and from the crag (departin
 g from Dunphy’s campground)\, so please PM me (fb: Jeffrey Kwan) if you 
 can drive.\n\nWe will meet up at 8:00am on Sunday morning at Dunphy’s ca
 mpground or you can meet us at the crag. Any gear that you require will be
  collected together on Sunday morning.\n\n 	Gear: harness\, helmet\, clim
 bing shoes\, ATC + carabiner (can be borrowed\, but if you have it bring i
 t!).\n 	What to bring: sunscreen\, 2 l water\, food for the day\, sporty-
 warm clothes\,  backpack to fit all your stuff\, camera\, smiles etc.\n 	
 Meeting point: 8:00am at Boree Log.\n\nJeffrey
CATEGORIES:Outdoor Climbing
END:VEVENT
END:VCALENDAR