BEGIN:VCALENDAR
VERSION:2.0
PRODID:-//wp-events-plugin.com//7.2.3.1//EN
TZID:Australia/Sydney
X-WR-TIMEZONE:Australia/Sydney
BEGIN:VEVENT
UID:2333@unswoc.org
DTSTART;VALUE=DATE:20181125
DTEND;VALUE=DATE:20181126
DTSTAMP:20181118T113923Z
URL:https://unswoc.org/wordpress/events/bl-sunday-climbing-mt-york/
SUMMARY:BL Sunday - Climbing at Mt. York??
DESCRIPTION:Ash and I will lead be leading a hectic climbing trip on Sunday
 .\n\nI think we agreed on Mt York\, but i could honestly be swayed somewhe
 re else. If you have any suggestions let me know!\n\nTell me why you're ke
 en and what your spirit animal is in the comments :)\n\nYou will need:\n\n
  	*Helmet\n 	*Harness\n 	*Belay device + Locking Carabiner\n 	*Climbing Sh
 oes\n 	Food + water (at least 2L!!)\n 	Backpack to carry the above\n 	warm
  clothing most likely! (check the weather)\n 	petrol money for you driver\
 n 	good vibes\n\n*These items can be borrowed the morning of Boree Log\, b
 ut it may run out so BYO if you have it to avoid disappointment.\n\nYou mu
 st be approved to the main Boree Log event to come on this trip.
CATEGORIES:Outdoor Climbing
END:VEVENT
END:VCALENDAR