BEGIN:VCALENDAR
VERSION:2.0
PRODID:-//wp-events-plugin.com//7.2.3.1//EN
TZID:Australia/Sydney
X-WR-TIMEZONE:Australia/Sydney
BEGIN:VEVENT
UID:2559@unswoc.org
DTSTART;TZID=Australia/Sydney;VALUE=DATE:20191027
DTEND;TZID=Australia/Sydney;VALUE=DATE:20191028
DTSTAMP:20191024T062820Z
URL:https://unswoc.org/wordpress/events/bl-sunday-climbing-manically-at-me
 dlow-bath/
SUMMARY:BL Sunday - **TRIP FULL** Beginner Climbing at Medlow Bath
DESCRIPTION:Glenn and James will lead be leading a hectic climbing trip on 
 Sunday. Trip is very beginner friendly - we're headed to Medlow Bath (Sunb
 ath Crag) for some chill sport climbing.\nWe'll meet at the Boree Log camp
 ground Sunday morning and head down together to Medlow Bath.\nTell me why 
 you’re keen (and whether you have a car) in the comments \n\nYou will ne
 ed:\n\n*Helmet\n*Harness\n*Belay device + Locking Carabiner\n*Climbing Sho
 es\nFood + water (at least 2L!!)\nBackpack to carry the above\nwarm clothi
 ng (potentially - check the weather!)\npetrol money for your driver\ngood 
 vibes\n*These items can be borrowed the morning of Boree Log\, but it may 
 run out so BYO if you have it to avoid disappointment.\n\nYou must be appr
 oved to the main Boree Log event to come on this trip.
END:VEVENT
BEGIN:VTIMEZONE
TZID:Australia/Sydney
X-LIC-LOCATION:Australia/Sydney
BEGIN:DAYLIGHT
DTSTART:20191006T030000
TZOFFSETFROM:+1000
TZOFFSETTO:+1100
TZNAME:AEDT
END:DAYLIGHT
END:VTIMEZONE
END:VCALENDAR