BEGIN:VCALENDAR
VERSION:2.0
PRODID:-//wp-events-plugin.com//7.2.3.1//EN
TZID:Australia/Sydney
X-WR-TIMEZONE:Australia/Sydney
BEGIN:VEVENT
UID:2851@unswoc.org
DTSTART;TZID=Australia/Sydney;VALUE=DATE:20210221
DTEND;TZID=Australia/Sydney;VALUE=DATE:20210222
DTSTAMP:20210218T061402Z
URL:https://unswoc.org/wordpress/events/bl-sunday-climbing-at-point-perpen
 dicular/
SUMMARY:**TRIP FULL** BL Sunday - Climbing at Point Perpendicular
DESCRIPTION:\n\nNOTE: Registration for all Boree Log day trips will open on
  Tuesday at 6 pm. You must already be accepted onto the main Boree Log eve
 nt in order to attend.\n\nOn Saturday Ash and I (Jenny) will be running a 
 trad climbing trip at Point Perpendicular. This is a great opportunity to 
 learn more about trad gear and trad placements or to get more comfortable 
 with anchors\, abseiling and top belaying in a stunning setting with some 
 excellent company \;)\n\nYou will need:\n\n 	At least 2L water (it will be
  hot)\n 	Lunch and snacks\n 	Sun protection (sunscreen\, hat\, sunnies)\n 
 	Helmet *\n 	Harness *\n 	Climbing shoes\n 	Belay device (ideally with the
  option to belay in guide mode) and locking carabiner *\n 	Safety sling an
 d locking carabiner *\n 	Prusik and locking carabiner *\n\nItems with (*) 
 can be borrowed from the club on Saturday morning. Climbing shoes can also
  be borrowed from the club but only on the regular Thursday gear night thi
 s week.\n\nWe can tailor the trip for all abilities but given the fairly i
 ntimidating setting of sea cliffs and crashing waves some outdoor climbing
  experience is preferable! if you're interested please let us know you're 
 experience/skill level and whether there's a particular skill you'd like t
 o learn or practice in the comments :)\n\nAny questions\, shoot me a messa
 ge on Facebook. Looking forward to another rad day of trad!!!
ATTACH;FMTTYPE=image/jpeg:https://unswoc.org/wordpress/wp-content/uploads/
 2020/03/3-climbing1-1.jpeg
CATEGORIES:Outdoor Climbing
END:VEVENT
BEGIN:VTIMEZONE
TZID:Australia/Sydney
X-LIC-LOCATION:Australia/Sydney
BEGIN:DAYLIGHT
DTSTART:20201004T030000
TZOFFSETFROM:+1000
TZOFFSETTO:+1100
TZNAME:AEDT
END:DAYLIGHT
END:VTIMEZONE
END:VCALENDAR