BEGIN:VCALENDAR
VERSION:2.0
PRODID:-//wp-events-plugin.com//7.2.3.1//EN
TZID:Australia/Sydney
X-WR-TIMEZONE:Australia/Sydney
BEGIN:VEVENT
UID:2558@unswoc.org
DTSTART;VALUE=DATE:20191027
DTEND;VALUE=DATE:20191028
DTSTAMP:20191020T014838Z
URL:https://unswoc.org/wordpress/events/bl-sunday-climbing-at-dam-cliffs-y
 ew/
SUMMARY:BL Sunday - *TRIP FULL* Climbing at Dam Cliffs
DESCRIPTION:Scott\, Bennett and I will lead be leading a hectic climbing tr
 ip on Sunday of Boree Log to Dam Cliffs.\n\nIt features some chill climbin
 g at easy to intermediate grades. It also has a swimming hole where you ca
 n attempt some deep water solo if you're feeling brave. Or you can just ch
 ill out in the water.\n\nTell me why you're keen and what your favourite s
 nack is in the comments :)\n\nYou will need:\n\n 	*Helmet\n 	*Harness\n 	*
 Belay device + Locking Carabiner\n 	*Climbing Shoes\n 	Food + water (at le
 ast 2L!!)\n 	Swimmers and towel (if you want to go for a swim)\n 	Backpack
  to carry the above\n 	Appropriate clothing (check the weather)\n 	petrol 
 money for you driver\n 	good vibes\n\n*These items can be borrowed the mor
 ning of Boree Log\, but it may run out so BYO if you have it to avoid disa
 ppointment.\n\nYou must be approved to the main Boree Log event to come on
  this trip.
ATTACH;FMTTYPE=image/jpeg:https://unswoc.org/wordpress/wp-content/uploads/
 2013/04/20130429-0750371.jpg
CATEGORIES:Outdoor Climbing
END:VEVENT
END:VCALENDAR