BEGIN:VCALENDAR
VERSION:2.0
PRODID:-//wp-events-plugin.com//7.2.3.1//EN
TZID:Australia/Sydney
X-WR-TIMEZONE:Australia/Sydney
BEGIN:VEVENT
UID:2189@unswoc.org
DTSTART;VALUE=DATE:20171029
DTEND;VALUE=DATE:20171030
DTSTAMP:20210303T054612Z
URL:https://unswoc.org/wordpress/events/bl-sunday-beginners-climbing-coke-
 ovens/
SUMMARY:BL Sunday: Beginner's climbing at Coke Ovens
DESCRIPTION:we need one more car to get people home\, let me know if you ca
 n drive!\n\nhey all\,\n\nme\, elliott\, jenny and izzy are running a small
  climbing trip to coke ovens on the sunday of boree log. its a ~30 min wal
 k from the campsite. the crag is mostly trad\, we will set up top ropes fo
 r beginners. if you are a trad leader or more experienced climber with lea
 d belay skills\, shoot me a message in facebook (mac labine-romain) and yo
 u can come too in addition to the 6 spots i've opened up for the trip.\n\n
 \n\nthere will be lots of cracks\, and although climbing experience is not
  necessary\, you will benefit from whatever practice you've had!\n\nwhat y
 ou need to bring:\n\ncomfy clothes\, lunch\, lots of water\, walking shoes
 \n\n--&gt\; we will provide all the specialised gear - but if you have any
  (especially climbing shoes!) bring it!\n\n&nbsp\;\n\n&nbsp\;
END:VEVENT
END:VCALENDAR