BEGIN:VCALENDAR
VERSION:2.0
PRODID:-//wp-events-plugin.com//7.2.3.1//EN
TZID:Australia/Sydney
X-WR-TIMEZONE:Australia/Sydney
BEGIN:VEVENT
UID:2855@unswoc.org
DTSTART;TZID=Australia/Sydney;VALUE=DATE:20210221
DTEND;TZID=Australia/Sydney;VALUE=DATE:20210222
DTSTAMP:20210216T075459Z
URL:https://unswoc.org/wordpress/events/bl-sunday-beginner-intermediate-cl
 imbing-stonehaven/
SUMMARY:BL Sunday - Beginner/Intermediate Climbing Stonehaven
DESCRIPTION:NOTE: Registration for all Boree Log day trips will open on Tu
 esday at 6 pm. You must already be accepted onto the main Boree Log even
 t in order to attend.\n\nCome join Cindy and I (Nic) for a fun day climbin
 g at Stonehaven on Sunday! This is a fantastic crag but the grades start a
  little harder\, so some climbing experience is preferable.\n\nWe will be 
 setting up top ropes so no experience is required! Let us know if you are 
 interested in learning to lead and we can show you where to get started 
 🙂\n\nWhat you’ll need:\n\n 	At least 2L water (it will be hot)\n 	Lun
 ch and snacks\n 	Sun protection (sunscreen\, hat\, sunnies)\n 	Helmet *\n 
 	Harness *\n 	Climbing shoes (optional but highly recommended)\n 	Belay d
 evice and carabiner *\n 	Safety sling and carabiner * (if you want to lea
 rn to clean)\n\nItems with (*) can be borrowed from the club on Sunday mor
 ning. Climbing shoes can also be borrowed from the club but only on the r
 egular Thursday gear night this week.\n\nIf you’re interested leave a c
 omment with any climbing experience you have and if you’d like to learn 
 anything in particular on the trip (leading\, cleaning\, etc.). If you’v
 e got any questions\, feel free to message Cindy or myself on Facebook. Se
 e you there!
END:VEVENT
BEGIN:VTIMEZONE
TZID:Australia/Sydney
X-LIC-LOCATION:Australia/Sydney
BEGIN:DAYLIGHT
DTSTART:20201004T030000
TZOFFSETFROM:+1000
TZOFFSETTO:+1100
TZNAME:AEDT
END:DAYLIGHT
END:VTIMEZONE
END:VCALENDAR