BEGIN:VCALENDAR
VERSION:2.0
PRODID:-//wp-events-plugin.com//7.2.3.1//EN
TZID:Australia/Sydney
X-WR-TIMEZONE:Australia/Sydney
BEGIN:VEVENT
UID:2859@unswoc.org
DTSTART;TZID=Australia/Sydney;VALUE=DATE:20210221
DTEND;TZID=Australia/Sydney;VALUE=DATE:20210222
DTSTAMP:20210219T021347Z
URL:https://unswoc.org/wordpress/events/bl-sunday-beginner-climbing-at-tia
 njara-falls/
SUMMARY:BL Sunday - Beginner Climbing at Tianjara Falls
DESCRIPTION:NOTE: Registration for all Boree Log day trips will open on Tu
 esday at 6 pm. You must already be accepted onto the main Boree Log even
 t in order to attend.\n\nJames\, Zee and I (Pat) will be leading a beginne
 r climbing trip to Tianjara Falls in New Nowra on Sunday! It’s a great c
 rag with fairly tall routes and routes of pretty much all grades.\n\nWe’
 ll be setting up top ropes during the day so no climbing experience is req
 uired! If you’re interested in learning to lead climb let us know and we
  can get you started.\n\nWhat you’ll need:\n\n 	At least 2L water (it wi
 ll be hot)\n 	Lunch and snacks\n 	Sun protection (sunscreen\, hat\, sunnie
 s)\n 	Helmet *\n 	Harness *\n 	Climbing shoes (optional but highly recomm
 ended)\n 	Belay device and carabiner *\n 	Safety sling and carabiner * (i
 f you want to learn to clean)\n\nItems with (*) can be borrowed from the c
 lub on Sunday morning. Climbing shoes can also be borrowed from the club b
 ut only on the regular Thursday gear night this week.\n\nIf you’re inte
 rested leave a comment with any climbing experience you have and if you
 ’d like to learn anything in particular on the trip (leading\, cleaning\
 , etc.). If you’ve got any questions\, feel free to message James Fisher
 \, Zenon Platritis\, or I (Patrick Chambers) on Facebook. See you there!
CATEGORIES:Outdoor Climbing
END:VEVENT
BEGIN:VTIMEZONE
TZID:Australia/Sydney
X-LIC-LOCATION:Australia/Sydney
BEGIN:DAYLIGHT
DTSTART:20201004T030000
TZOFFSETFROM:+1000
TZOFFSETTO:+1100
TZNAME:AEDT
END:DAYLIGHT
END:VTIMEZONE
END:VCALENDAR