BEGIN:VCALENDAR
VERSION:2.0
PRODID:-//wp-events-plugin.com//7.2.3.1//EN
TZID:Australia/Sydney
X-WR-TIMEZONE:Australia/Sydney
BEGIN:VEVENT
UID:2856@unswoc.org
DTSTART;TZID=Australia/Sydney;VALUE=DATE:20210221
DTEND;TZID=Australia/Sydney;VALUE=DATE:20210222
DTSTAMP:20210218T114135Z
URL:https://unswoc.org/wordpress/events/bl-sunday-beginner-climbing-at-tho
 mpsons-point/
SUMMARY:BL Sunday - Beginner Climbing at Thompsons Point/Utopia
DESCRIPTION:NOTE: Registration for all Boree Log day trips will open on Tue
 sday at 6 pm. You must already be accepted onto the main Boree Log event i
 n order to attend.\n\nCam and I will be running a beginner friendly trip t
 o Thompsons Point on Sunday. With an easy access and views of the Shoalhav
 en River\, Thompsons is a great place to spend the day if you're new to cl
 imbing or are feeling especially smashed after Saturday night.\n\nIf it ra
 ins too hard\, the plan is to go to Utopia crag instead\, which is shelter
 ed in wet weather.\n\nWe will be setting up topropes on a few easier grade
 s so no climbing experience is required. If you have never lead a sport cl
 imb before and are keen to learn\, feel free to tell us and we can show yo
 u the ropes on Sunday!\n\nYou will need to bring:\n\nClimbing gear:\n\n 	H
 arness*\n 	Climbing Shoes*\n 	Chalk Bag (optional but recommended)\n 	Helm
 et*\n 	Carabiner+ATC*\n\nOther:\n\n 	At least 2L of water (use your own ju
 dgement on this)\n 	Food and snacks for the day\n 	Sunscreen\n 	Personal m
 edicines (epipen\, etc)\n 	Comfortable clothes to climb in\n\n(*) - Can be
  borrowed from the club in the morning\, please borrow climbing shoes from
  the gear cupboard before boree log.\n\nIf you've read this far\, go ahead
  and chuck your climbing experience and if theres anything you want to lea
 rn in the comments down below. Alternatively send us a message on Facebook
  \n\nSee you on Sunday!
CATEGORIES:Outdoor Climbing
END:VEVENT
BEGIN:VTIMEZONE
TZID:Australia/Sydney
X-LIC-LOCATION:Australia/Sydney
BEGIN:DAYLIGHT
DTSTART:20201004T030000
TZOFFSETFROM:+1000
TZOFFSETTO:+1100
TZNAME:AEDT
END:DAYLIGHT
END:VTIMEZONE
END:VCALENDAR