BEGIN:VCALENDAR
VERSION:2.0
PRODID:-//wp-events-plugin.com//7.2.3.1//EN
TZID:Australia/Sydney
X-WR-TIMEZONE:Australia/Sydney
BEGIN:VEVENT
UID:3006@unswoc.org
DTSTART;TZID=Australia/Sydney;VALUE=DATE:20220515
DTEND;TZID=Australia/Sydney;VALUE=DATE:20220516
DTSTAMP:20220510T120923Z
URL:https://unswoc.org/wordpress/events/bl-sunday-beginner-climbing-at-shi
 pley/
SUMMARY:SUNDAY BL - Beginner Climbing at Shipley
DESCRIPTION:Cam and I will be leading a beginner climbing trip to Shipley (
 or other location tbd). Find all the details here: https://www.thecrag.com
 /en/climbing/australia/blue-mountains/shipley-upper/area/13148077.  You m
 ust be approved for Boree Log to attend.\n\nThe plan is to drive from the 
 campground where we are camping on Saturday night to the crag\, where we
  will set up top ropes for everyone to climb. No climbing experience is ne
 eded. If you´re a competent lead climber and lead belayer\, you´re also 
 welcomed. It will be an awesome day out and you will need:\n\n 	Climbing g
 ear: A harness*\, a helmet* and locking carabiner* attached to an ATC* (*
  = club will provide it). Optional but recommended chalk bag and climbing 
 shoes.\n 	For clothing: Sport clothes. It can get quite hot or quite chil
 ly\, so be prepared for both.\n 	For eating: 2 l of water\, food or snacks
 .\n 	Other gear: swimmers\, sunscreen\, medicines if you need them (asthm
 a puffer\, etc).\n\nNumber of attendees will depend on the number of cars 
 available. Please mention if you have a car.\n\n&nbsp\;\n\nYou need to be 
 approved for the main Boree Log event to attend these trips. Please sign u
 p for only ONE trip per day. If you get rejected you can then sign up for 
 another trip\, this just makes it easier for volunteer trip leaders.\n\nPl
 ease be aware that as the weather is unpredictable\, trip leaders may need
  to alter trips accordingly
END:VEVENT
BEGIN:VTIMEZONE
TZID:Australia/Sydney
X-LIC-LOCATION:Australia/Sydney
BEGIN:STANDARD
DTSTART:20220403T020000
TZOFFSETFROM:+1100
TZOFFSETTO:+1000
TZNAME:AEST
END:STANDARD
END:VTIMEZONE
END:VCALENDAR