BEGIN:VCALENDAR
VERSION:2.0
PRODID:-//wp-events-plugin.com//7.2.3.1//EN
TZID:Australia/Sydney
X-WR-TIMEZONE:Australia/Sydney
BEGIN:VEVENT
UID:2844@unswoc.org
DTSTART;TZID=Australia/Sydney;VALUE=DATE:20210221
DTEND;TZID=Australia/Sydney;VALUE=DATE:20210222
DTSTAMP:20210217T010116Z
URL:https://unswoc.org/wordpress/events/bl-sunday-beginner-climbing-at-mt-
 alexandra/
SUMMARY:**TRIP FULL** BL Sunday - Beginner Climbing at Mt Alexandra
DESCRIPTION:\n\nNOTE: Registration for all Boree Log day trips will open on
  Tuesday at 6 pm. You must already be accepted onto the main Boree Log eve
 nt in order to attend.\n\nCome join Ava\, Sarah and myself (Stephen) for a
  fun day climbing at Mt Alexandra on Sunday! This is a lovely crag with so
 mething for everyone and conveniently on the way back to Sydney.\n\nWe wil
 l be setting up top ropes so no experience is required! Let us know if you
  are interested in learning to lead and we can show you where to get start
 ed 🙂\n\nWhat you’ll need:\n\n 	At least 2L water (it will be hot)\n 	
 Lunch and snacks\n 	Sun protection (sunscreen\, hat\, sunnies)\n 	Helmet *
 \n 	Harness *\n 	Climbing shoes (optional but highly recommended)\n 	Belay
  device and carabiner *\n 	Safety sling and carabiner * (if you want to l
 earn to clean)\n\nItems with (*) can be borrowed from the club on Saturday
  morning. Climbing shoes can also be borrowed from the club but only on th
 e regular Thursday gear night this week.\n\nIf you’re interested leave a
  comment with any climbing experience you have and if you'd like to learn 
 anything in particular on the trip (leading\, cleaning\, etc.). If you’v
 e got any questions\, feel free to message Ava\, Sarah or myself on Facebo
 ok. See you there!\n\nPS. We will be driving back to Sydney directly from 
 Mt Alex on Sunday afternoon\, so we will organise car pooling within this 
 trip to get everyone home.\n\n&nbsp\;\n\nNote: One extra space has been le
 ft open on this event to allow members to sign up for the waiting list if 
 more spaces become available.
ATTACH;FMTTYPE=image/jpeg:https://unswoc.org/wordpress/wp-content/uploads/
 2021/02/unnamed.jpg
CATEGORIES:Outdoor Climbing
END:VEVENT
BEGIN:VTIMEZONE
TZID:Australia/Sydney
X-LIC-LOCATION:Australia/Sydney
BEGIN:DAYLIGHT
DTSTART:20201004T030000
TZOFFSETFROM:+1000
TZOFFSETTO:+1100
TZNAME:AEDT
END:DAYLIGHT
END:VTIMEZONE
END:VCALENDAR