BEGIN:VCALENDAR
VERSION:2.0
PRODID:-//wp-events-plugin.com//7.2.3.1//EN
TZID:Australia/Sydney
X-WR-TIMEZONE:Australia/Sydney
BEGIN:VEVENT
UID:2331@unswoc.org
DTSTART:20181124T210000Z
DTEND:20181125T110000Z
DTSTAMP:20181121T114733Z
URL:https://unswoc.org/wordpress/events/bl-sunay-canyon-whungee-wheengee/
SUMMARY:[TRIP FULL] BL SUNAY: The Best Canyon Out - Whungee Wheengee
DESCRIPTION:Wanna come on the Best Canyon™ in the Blueys?!?!\n\nCome on d
 own through the beautiful Whungee Wheengee! It’s got rocks\, it’s got 
 water\, it’s got abseils\, it’s got a big hike out\, it’s maybe got 
 glowworms! Oh and it may or may not have “duck unders” where you have 
 to swim underneath a rock. But seriously\, it’s my fave canyon and a tot
 al must do\n\nThe canyon itself is quite dark and sustained which means it
 ’ll be pretty chilly. Therefore\, wetsuits\, thermals\, wool/cashmere sw
 eaters\, and spray jackets are going to be a must.\n\nThis is a pretty lon
 g day\, so we gotta be moving efficiently which means that having previous
  canyon/rock scrambling/swimming/rope skills/general fitness is advised. S
 o if you’re keen\, please MESSAGE ME with your relevant outdoors experie
 nce!\n\nPacking list:\n\nHarness**\nHelmet**\nHead torch\nDescender (ATC\,
  figure 8\, etc.) + biner**\nSafety sling + biner**\nLong wetsuit**\nTherm
 als for under your wetsuit\nWool/cashmere/mohair sweater for under your we
 tsuit (NO cotton!!)\nSpray jacket for over your wetsuit\nShoes to get wet 
 (I’d advise volleys\, old runners\, or like $10 sneakers from Kmart)\nWo
 ol socks\nDay pack\nDry bag\nLunch\nSnacks\nSunscreen\n2L Water bottle/s\n
 \nYou can borrow items with a ** from the club\, but as always\, limited a
 vailability with Boree Log\, so bringing your own is always a safe bet\n\n
 You must be attending the main Boree Log event to attend this trip!\n\nSee
  you there!\n\nxx Izzy and Dion
ATTACH;FMTTYPE=image/jpeg:https://unswoc.org/wordpress/wp-content/uploads/
 2018/10/whungee-wheengee.jpg
CATEGORIES:Canyoning
END:VEVENT
END:VCALENDAR