BEGIN:VCALENDAR
VERSION:2.0
PRODID:-//wp-events-plugin.com//7.2.3.1//EN
TZID:Australia/Sydney
X-WR-TIMEZONE:Australia/Sydney
BEGIN:VEVENT
UID:2854@unswoc.org
DTSTART;TZID=Australia/Sydney;VALUE=DATE:20210220
DTEND;TZID=Australia/Sydney;VALUE=DATE:20210221
DTSTAMP:20210219T081445Z
URL:https://unswoc.org/wordpress/events/bl-saturday/
SUMMARY:**TRIP FULL** BL Saturday - Beginner Climbing Mt Alexandra
DESCRIPTION:NOTE: Registration for all Boree Log day trips will open on Tu
 esday at 6 pm. You must already be accepted onto the main Boree Log even
 t in order to attend.\n\nCome join Josh and I (Nic) for a fun day climbing
  Mt Alexandra on Saturday! This is a fantastic crag with something for eve
 ryone from steep to slab.\n\nWe will be setting up top ropes so no experie
 nce is required! Let us know if you are interested in learning to lead and
  we can show you where to get started 🙂\n\nWhat you’ll need:\n\n 	At 
 least 2L water (it will be hot)\n 	Lunch and snacks\n 	Sun protection (sun
 screen\, hat\, sunnies)\n 	Helmet *\n 	Harness *\n 	Climbing shoes (optio
 nal but highly recommended)\n 	Belay device and carabiner *\n 	Safety slin
 g and carabiner * (if you want to learn to clean)\n\nItems with (*) can b
 e borrowed from the club on Saturday morning. Climbing shoes can also be b
 orrowed from the club but only on the regular Thursday gear night this w
 eek.\n\nIf you’re interested leave a comment with any climbing experien
 ce you have and if you’d like to learn anything in particular on the tri
 p (leading\, cleaning\, etc.). If you’ve got any questions\, feel free t
 o message Josh or myself on Facebook. See you there!
CATEGORIES:Outdoor Climbing
END:VEVENT
BEGIN:VTIMEZONE
TZID:Australia/Sydney
X-LIC-LOCATION:Australia/Sydney
BEGIN:DAYLIGHT
DTSTART:20201004T030000
TZOFFSETFROM:+1000
TZOFFSETTO:+1100
TZNAME:AEDT
END:DAYLIGHT
END:VTIMEZONE
END:VCALENDAR