BEGIN:VCALENDAR
VERSION:2.0
PRODID:-//wp-events-plugin.com//7.2.3.1//EN
TZID:Australia/Sydney
X-WR-TIMEZONE:Australia/Sydney
BEGIN:VEVENT
UID:2332@unswoc.org
DTSTART;VALUE=DATE:20181124
DTEND;VALUE=DATE:20181125
DTSTAMP:20181118T113839Z
URL:https://unswoc.org/wordpress/events/bl-saturday-trad-climbing-piddo/
SUMMARY:BL Saturday - Trad Climbing at Piddo
DESCRIPTION:Come join Henry and me at mt piddington to hit some cracks on S
 aturday of Boree Log!\n\nThis trip would be best suited to people looking 
 at getting into trad climbing or who are happy to watch me and Henry suffe
 r.\nBecause Trad=faff\, don't expect to get on a 100 climbs like a sport t
 rip. Most climbs will be &lt\;15 as me and henry aren't yet Trad guns (i t
 hink we both have tendonitis as well lol). But there'll be one or two 17/1
 8's.\n\nTell me why you're keen and what your spirit animal is in the comm
 ents :)\n\nYou will need:\n\n 	*Helmet\n 	*Harness\n 	*Belay device + Lock
 ing Carabiner\n 	*Climbing Shoes\n 	Food + water (at least 2L!!)\n 	Backpa
 ck to carry the above\n 	warm clothing most likely! (check the weather)\n 
 	petrol money for you driver\n 	good vibes\n\n*These items can be borrowed
  the morning of Boree Log\, but it may run out so BYO if you have it to av
 oid disappointment.\n\nYou must be approved to the main Boree Log event to
  come on this trip.
CATEGORIES:Outdoor Climbing
END:VEVENT
END:VCALENDAR