BEGIN:VCALENDAR
VERSION:2.0
PRODID:-//wp-events-plugin.com//7.2.3.1//EN
TZID:Australia/Sydney
X-WR-TIMEZONE:Australia/Sydney
BEGIN:VEVENT
UID:2552@unswoc.org
DTSTART;TZID=Australia/Sydney;VALUE=DATE:20191026
DTEND;TZID=Australia/Sydney;VALUE=DATE:20191027
DTSTAMP:20191025T073802Z
URL:https://unswoc.org/wordpress/events/bl-saturday-super-beginner-climbin
 g-pagoda-environs/
SUMMARY:BL Saturday - *TRIP Full (unless you have a car) * Beginner Climbin
 g - Pagoda Environs
DESCRIPTION:You must be attending and approved for the Boree Log main event
  to sign up for this trip.\n\nHey everyone!\n\nJosh and I (Nic) will be le
 ading a super beginner-friendly trip to the Pagoda Environs at Bung Crag. 
 This crag has climbs from grade 6 to grade 19\, with many hovering in the 
 13-16 range. This is the perfect trip for people that are completely new 
 to outdoor climbing or are completely new to lead climbing. We are happy
  to teach you the basics of both! :)\n\nWe will meet you the Saturday morn
 ing at the Boree Log campsite. To have a look at the crag and get stoked\,
  click here: https://www.thecrag.com/climbing/australia/gardens-of-stone-a
 rea/bung-crag/area/258508926\n&nbsp\;\n\nNo climbing experience is require
 d\, but you will need:\n\n 	Climbing gear: A harness* and a helmet* (* = 
 could be borrowed from the club). Optional but highly recommended: climbin
 g shoes\, and maybe a chalk bag.\n 	For clothing: Sport clothes. It can g
 et quite hot or quite chilly\, so be prepared for both.\n 	For sustenance:
  2L of water\, food or snacks\, chocolate for trip leaders \;)\n 	Other ge
 ar: Sunscreen\, medicines if you need them (asthma puffer\, etc).\n\nIf y
 ou have any questions\, comments\, concerns\, death threats\, or dead budg
 erigars\, message Josh or myself (Nicolas Di Campli) on Facebook. Write do
 wn YOUR EXPERIENCE in the comments\, what gear you have\, whether you hav
 e A CAR (and the model) and your favourite outdoor snack.
CATEGORIES:Boree Log,Outdoor Climbing
END:VEVENT
BEGIN:VTIMEZONE
TZID:Australia/Sydney
X-LIC-LOCATION:Australia/Sydney
BEGIN:DAYLIGHT
DTSTART:20191006T030000
TZOFFSETFROM:+1000
TZOFFSETTO:+1100
TZNAME:AEDT
END:DAYLIGHT
END:VTIMEZONE
END:VCALENDAR