BEGIN:VCALENDAR
VERSION:2.0
PRODID:-//wp-events-plugin.com//7.2.3.1//EN
TZID:Australia/Sydney
X-WR-TIMEZONE:Australia/Sydney
BEGIN:VEVENT
UID:3552@unswoc.org
DTSTART;TZID=Australia/Sydney;VALUE=DATE:20250322
DTEND;TZID=Australia/Sydney;VALUE=DATE:20250323
DTSTAMP:20250320T020317Z
URL:https://unswoc.org/wordpress/events/bl-saturday-dam-cliffs-beginner-sp
 ort-climbing-shenanigans/
SUMMARY:SATURDAY BL - DAM CLIFFS Beginner Sport Climbing shenanigans.
DESCRIPTION:Hey all you goofy goobers (spongebob kids will know)\,\nWe (Mal
 i and Marley (don't you dare get them confused)) will be running a super-d
 uper-chill-as beginner sport climbing trip on Saturday to Dam Cliffs in an
 ticipation of the oven-like conditions the blue mountains summer weekends 
 seem to provide.\n\nSince Dam cliffs is an old quarry that has now been da
 mmed up it has a hugeomongous swimming hole with cliff jumping\, rope swin
 gs and deep water free solo climbs. We will likely finish up the day with 
 a chill mix of the above activities\, for all those who are interested (yo
 u can also just chill :)). If you want to have a geez at the crag before s
 igning up\, have a look here (you might find something you're stoked to t
 ry).\n\nAttendees will need the following:\n\n 	Skills: Ideally some top-r
 oping experience however none is ok too! We can teach no worries.\n 	Gear:
  Since its a Boree Log we will grab all our gear on the day but you'll nee
 d a harness\, Personal Anchor\, Belay device (ATC)\, climbing shoes (ideal
 ly)\, and a helmet (a must)\n 	Clothing: Make sure you check the weekend w
 eather before coming up\, but if its hot you should definitely not bring w
 arm clothes (i.e. long-sleeves) and you should definitely bring some swimm
 ers and a towel. If its raining we probably won't end up going here (but s
 till please bring raincoats if its going to rain no matter where we go).\n
  	To answer the following question in the trip request comment: What is yo
 ur favourite place in Australia you've been to?\n 	Food: Bring whatever yo
 u want for lunch and afternoon tea as we will be spending the day at the c
 rag (our advice is bring something simple and easy\, and also bring sugary
  stuff for when climbing).\n 	Water: Bring a minimum of 2L (No you can't d
 rink the dam water (unless you have a purification method)).\n\nAlso as an
  FYI: You need to be approved for the main Boree Log event to attend these
  trips. Please sign up for only ONE trip per day. If you get rejected you 
 can then sign up for another trip\, this just makes it easier for voluntee
 r trip leaders. Please be aware that as the weather is unpredictable\, tri
 p leaders may need to alter trips accordingly.\n\nIf this trip floats your
  boat \;) then feel free to request to join. Feel free to send us a pm on 
 facebook (Mali Woods or Marley Shaw-McHenry) with any questions or just to
  say hello and let us know you're keen (and will probs make us more inclin
 ed to have you come).
CATEGORIES:Boree Log,Climbing,Outdoor Climbing
LOCATION:https://maps.app.goo.gl/kb97PmULbaodEazz7
END:VEVENT
BEGIN:VTIMEZONE
TZID:Australia/Sydney
X-LIC-LOCATION:Australia/Sydney
BEGIN:DAYLIGHT
DTSTART:20241006T030000
TZOFFSETFROM:+1000
TZOFFSETTO:+1100
TZNAME:AEDT
END:DAYLIGHT
END:VTIMEZONE
END:VCALENDAR