BEGIN:VCALENDAR
VERSION:2.0
PRODID:-//wp-events-plugin.com//7.2.3.1//EN
TZID:Australia/Sydney
X-WR-TIMEZONE:Australia/Sydney
BEGIN:VEVENT
UID:2850@unswoc.org
DTSTART;TZID=Australia/Sydney;VALUE=DATE:20210220
DTEND;TZID=Australia/Sydney;VALUE=DATE:20210221
DTSTAMP:20210217T042438Z
URL:https://unswoc.org/wordpress/events/bl-saturday-climbing-at-point-perp
 endicular/
SUMMARY:**TRIP FULL** BL Saturday - Climbing at Point Perpendicular
DESCRIPTION:\n\nNOTE: Registration for all Boree Log day trips will open on
  Tuesday at 6 pm. You must already be accepted onto the main Boree Log eve
 nt in order to attend.\n\nOn Saturday Cam and I (Jenny) will be running a 
 trad climbing trip at Point Perpendicular. This is a great opportunity to 
 learn more about trad gear and trad placements or to get more comfortable 
 with anchors\, abseiling and top belaying in a stunning setting with some 
 great company \;)\n\nYou will need:\n\n 	At least 2L water (it will be hot
 )\n 	Lunch and snacks\n 	Sun protection (sunscreen\, hat\, sunnies)\n 	Hel
 met *\n 	Harness *\n 	Climbing shoes\n 	Belay device (ideally with the opt
 ion to belay in guide mode) and locking carabiner *\n 	Safety sling and lo
 cking carabiner *\n 	Prusik and locking carabiner *\n\nItems with (*) can 
 be borrowed from the club on Saturday morning. Climbing shoes can also be 
 borrowed from the club but only on the regular Thursday gear night this we
 ek.\n\nWe can tailor the trip for all abilities but given the fairly intim
 idating setting of sea cliffs and crashing waves some outdoor climbing exp
 erience is preferable! if you're interested please let us know you're expe
 rience/skill level and whether there's a particular skill you'd like to le
 arn or practice in the comments :)\n\nAny questions\, shoot me a message o
 n Facebook. Looking forward to a rad day of trad!!!
ATTACH;FMTTYPE=image/jpeg:https://unswoc.org/wordpress/wp-content/uploads/
 2020/03/3-climbing1-1.jpeg
CATEGORIES:Outdoor Climbing
END:VEVENT
BEGIN:VTIMEZONE
TZID:Australia/Sydney
X-LIC-LOCATION:Australia/Sydney
BEGIN:DAYLIGHT
DTSTART:20201004T030000
TZOFFSETFROM:+1000
TZOFFSETTO:+1100
TZNAME:AEDT
END:DAYLIGHT
END:VTIMEZONE
END:VCALENDAR