BEGIN:VCALENDAR
VERSION:2.0
PRODID:-//wp-events-plugin.com//7.2.3.1//EN
TZID:Australia/Sydney
X-WR-TIMEZONE:Australia/Sydney
BEGIN:VEVENT
UID:2847@unswoc.org
DTSTART;TZID=Australia/Sydney;VALUE=DATE:20210220
DTEND;TZID=Australia/Sydney;VALUE=DATE:20210221
DTSTAMP:20210216T014844Z
URL:https://unswoc.org/wordpress/events/bl-saturday-canyoning-upper-lower-
 macquarie-pass/
SUMMARY:BL Saturday - Canyoning Upper & Lower Macquarie Pass
DESCRIPTION:NOTE: Registration for all Boree Log day trips (like this one) 
 will open on Tuesday at 6 pm. You MUST already be accepted onto the main B
 oree Log event in order to attend.\n\n\n\nTime to get wet! Come join Nick\
 , Cindy and I (Maria) on an awesome\, long\, and wet canyoning day down Ma
 cquarie Pass. This trip requires a car shuffle so we need at least 2 driv
 ers to be able to go (mention in the comments whether you have a car and w
 ill be given preference \;) ).\n\n**Requirements**: be a good swimmer + be
  quite fit + know how to abseil. We can briefly refresh on abseiling skill
 s if needed.\n\nGEAR (Items with (*) can be borrowed from the club on Satu
 rday morning but bring your own if you have it\, there may not be enough):
 \n\n 	Harness *\n 	Helmet *\n 	Figure 8 Device or ATC *\n 	Prussik and bin
 er *\n 	Safety sling and biner *\n 	Wetsuit *\n\nWHAT TO WEAR:\n\n 	Enclos
 ed shoes for canyoning (will get wet)\n 	Swimmers / thermals\n\nWHAT TO CA
 RRY:\n\n 	Emergency blanket (can be purchased for $5 from the gear cupboar
 d)\n 	Sunscreen\n 	Lunch and 2L of water minimum\n 	Dry clothes\n 	Drybag
 \n 	Backpack (25-40L\, will get wet)\n 	Headtorch + spare batteries\n 	Med
 ications/epipens/first aid kit if you need them!\n\nCOMMENTS:\n\nPlease le
 t us know in the comments whether you have a car and your previous canyoni
 ng experience. Meeting point early Saturday morning at the campground\, lo
 ok for Maria\, Nick and Cindy. Any questions\, message us on facebook. Get
  excited!
ATTACH;FMTTYPE=image/jpeg:https://unswoc.org/wordpress/wp-content/uploads/
 2020/11/Empress-Falls.jpg
CATEGORIES:Canyoning
END:VEVENT
BEGIN:VTIMEZONE
TZID:Australia/Sydney
X-LIC-LOCATION:Australia/Sydney
BEGIN:DAYLIGHT
DTSTART:20201004T030000
TZOFFSETFROM:+1000
TZOFFSETTO:+1100
TZNAME:AEDT
END:DAYLIGHT
END:VTIMEZONE
END:VCALENDAR