BEGIN:VCALENDAR
VERSION:2.0
PRODID:-//wp-events-plugin.com//7.2.3.1//EN
TZID:Australia/Sydney
X-WR-TIMEZONE:Australia/Sydney
BEGIN:VEVENT
UID:2849@unswoc.org
DTSTART;TZID=Australia/Sydney;VALUE=DATE:20210220
DTEND;TZID=Australia/Sydney;VALUE=DATE:20210221
DTSTAMP:20210216T014836Z
URL:https://unswoc.org/wordpress/events/bl-saturday-canyoning-lower-macqua
 rie-pass/
SUMMARY:BL Saturday - Canyoning Lower Macquarie Pass
DESCRIPTION:NOTE: Registration for all Boree Log day trips (like this one) 
 will open on Tuesday at 6 pm. You MUST already be accepted onto the main B
 oree Log event in order to attend.\n\n\n\nCome join Ben and I (Oliver) on 
 an awesome\, wet and not quite as long a day canyoning down Macquarie Pas
 s..\n\n**Requirements**: be a good swimmer + know how to abseil. We can br
 iefly refresh on abseiling skills if needed.\n\nGEAR (Items with (*) can b
 e borrowed from the club on Saturday morning but bring your own if you hav
 e it\, there may not be enough):\n\n 	Harness *\n 	Helmet *\n 	Figure 8 De
 vice or ATC *\n 	Prussik and biner *\n 	Safety sling and biner *\n 	Wetsui
 t *\n\nWHAT TO WEAR:\n\n 	Enclosed shoes for canyoning (will get wet)\n 	S
 wimmers / thermals\n\nWHAT TO CARRY:\n\n 	Emergency blanket (can be purcha
 sed for $5 from the gear cupboard)\n 	Sunscreen\n 	Lunch (in a dry bag) an
 d 2L of water\n 	Dry layer(s) (thermals or woollen jumper - must be wool t
 o keep you warm when wet)\n 	Drybag\n 	Backpack (25-40L\, will get wet)\n 
 	Headtorch + spare batteries\n 	Medications/epipens/first aid kit if you n
 eed them!\n\nLEAVE IN THE CAR:\n\n 	Dry change of clothes\n 	Dry shoes\n 	
 Dry towel\n\nCOMMENTS:\n\nPlease let us know in the comments whether you h
 ave a car and your previous canyoning experience. Meeting point early Satu
 rday morning at the campground\, look for Oliver and Ben. Any questions\, 
 message us on facebook. Get excited!\n\nPlease let me know if you have a c
 ar and your dream car =) - Drivers and cool dream cars will be given prefe
 rence.
ATTACH;FMTTYPE=image/jpeg:https://unswoc.org/wordpress/wp-content/uploads/
 2020/11/Empress-Falls.jpg
CATEGORIES:Canyoning
END:VEVENT
BEGIN:VTIMEZONE
TZID:Australia/Sydney
X-LIC-LOCATION:Australia/Sydney
BEGIN:DAYLIGHT
DTSTART:20201004T030000
TZOFFSETFROM:+1000
TZOFFSETTO:+1100
TZNAME:AEDT
END:DAYLIGHT
END:VTIMEZONE
END:VCALENDAR