BEGIN:VCALENDAR
VERSION:2.0
PRODID:-//wp-events-plugin.com//7.2.3.1//EN
TZID:Australia/Sydney
X-WR-TIMEZONE:Australia/Sydney
BEGIN:VEVENT
UID:2336@unswoc.org
DTSTART;VALUE=DATE:20181124
DTEND;VALUE=DATE:20181125
DTSTAMP:20181119T101828Z
URL:https://unswoc.org/wordpress/events/bl-saturday-butterbox-canyon/
SUMMARY:BL Saturday - Butterbox Canyon
DESCRIPTION:&nbsp\;\n\nHey all\,\n\nAsh and I are running a trip to Butterb
 ox Canyon\, a short but spectacular intermediate canyon which involves abs
 eiling and climbing.\n\nLet us know your canyoning experience in the comme
 nts as well as your favourite outdoors snack 🙂\n\nWhat you need to bri
 ng:\n\n 	Wetsuit**\n 	Board shorts to wear over the wetsuit to protect it\
 n 	Helmet**\n 	Harness\, belay device\, safety sling and locking biner\, p
 rusik**\n 	Shoes that can get wet and that are preferably a bit grippy –
  old runners or cheap volleys from Kmart will do the job\n 	Drybag\n 	Food
  consisting of snacks and lunch\n 	At least 1.5L of water\n 	Sunscreen\n 	
 Headtorch\n 	Backpack which can get wet\n 	Dry clothes to put on after the
  canyon\n\n**These items can be borrowed the morning of Boree Log\, but th
 ey may run out so BYO if you have them to avoid disappointment.\n\nDrivers
  will be preferenced so please indicate whether you will have a car when s
 igning up\n\nFeel free to message me or Ash on facebook if you have any qu
 estions
ATTACH;FMTTYPE=image/jpeg:https://unswoc.org/wordpress/wp-content/uploads/
 2018/11/Butterbox-Canyon-2.jpg
CATEGORIES:Canyoning
END:VEVENT
END:VCALENDAR