BEGIN:VCALENDAR
VERSION:2.0
PRODID:-//wp-events-plugin.com//7.2.3.1//EN
TZID:Australia/Sydney
X-WR-TIMEZONE:Australia/Sydney
BEGIN:VEVENT
UID:2385@unswoc.org
DTSTART:20190322T200000Z
DTEND:20190323T060000Z
DTSTAMP:20190312T133615Z
URL:https://unswoc.org/wordpress/events/bl-saturday-beginner-climbing-mezz
 aluna/
SUMMARY:BL Saturday - Beginner Climbing Mezzaluna
DESCRIPTION:Nic and I will lead be leading a hectic climbing trip on Saturd
 ay to the Mezzaluna area of Mount York\n\nThe climbs range from beginner t
 o intermediate\, to get full value it would be best if you've done some cl
 imbing before\, but don't worry we all start somewhere!\n\nTell me your fa
 vorite dessert and your level of climbing experience in the comments :)\n\
 nYou will need:\n\n 	*Helmet\n 	*Harness\n 	*Belay device + Locking Carabi
 ner\n 	*Climbing Shoes\n 	Food + water (at least 1.5L!!)\n 	Backpack to ca
 rry the above\n 	clothing appropriate for the weather\n 	sunscreen\n 	petr
 ol money for you driver\n 	good vibes\n\n*These items can be borrowed the 
 morning of Boree Log\, but it may run out so BYO if you have it to avoid d
 isappointment.\n\nYou must be approved to the main Boree Log event to come
  on this trip.
CATEGORIES:Outdoor Climbing
END:VEVENT
END:VCALENDAR