BEGIN:VCALENDAR
VERSION:2.0
PRODID:-//wp-events-plugin.com//7.2.3.1//EN
TZID:Australia/Sydney
X-WR-TIMEZONE:Australia/Sydney
BEGIN:VEVENT
UID:2335@unswoc.org
DTSTART;VALUE=DATE:20181124
DTEND;VALUE=DATE:20181125
DTSTAMP:20181119T111936Z
URL:https://unswoc.org/wordpress/events/bl-saturday-beginner-climbing-medl
 ow-bath/
SUMMARY:BL Saturday: Beginner Climbing at Medlow Bath
DESCRIPTION:Hey all\,\n\nCome climb with Greta and I at Medlow Bath on the 
 satuday of Boree Log. No experience or gear required\, but please bring th
 ose things if you have them!!\n\nWe will need 2 cars (i.e. 10 spots) to dr
 ive to and from the crag (departing from Dunphy's campground)\, so please 
 PM me (fb: Mac Labine-Romain) if you can drive.\n\nWhat you need to bring:
 \n\n 	walking shoes\n 	lunch\n 	1-2L water\n 	comfy climbing clothes\n 	su
 nscreen\n\n(not my photo)
CATEGORIES:Outdoor Climbing
END:VEVENT
END:VCALENDAR