BEGIN:VCALENDAR
VERSION:2.0
PRODID:-//wp-events-plugin.com//7.2.3.1//EN
TZID:Australia/Sydney
X-WR-TIMEZONE:Australia/Sydney
BEGIN:VEVENT
UID:2843@unswoc.org
DTSTART;TZID=Australia/Sydney;VALUE=DATE:20210220
DTEND;TZID=Australia/Sydney;VALUE=DATE:20210221
DTSTAMP:20210218T061156Z
URL:https://unswoc.org/wordpress/events/bl-saturday-beginner-climbing-at-t
 hompsons-point/
SUMMARY:**TRIP FULL** BL Saturday - Beginner Climbing at Thompson's Point
DESCRIPTION:\n\nNOTE: Registration for all Boree Log day trips will open on
  Tuesday at 6 pm. You must already be accepted onto the main Boree Log eve
 nt in order to attend.\n\nCome join Henry\, Liam and myself (Stephen) for 
 a fun day climbing at Thompson's Point on Saturday! This is a fantastic cr
 ag with something for everyone and lovely views over the Shoalhaven River 
 while we climb.\n\nWe will be setting up top ropes so no experience is req
 uired! Let us know if you are interested in learning to lead and we can sh
 ow you where to get started 🙂\n\nWhat you’ll need:\n\n 	At least 2L w
 ater (it will be hot)\n 	Lunch and snacks\n 	Sun protection (sunscreen\, h
 at\, sunnies)\n 	Helmet *\n 	Harness *\n 	Climbing shoes (optional but hig
 hly recommended)\n 	Belay device and carabiner *\n 	Safety sling and carab
 iner * (if you want to learn to clean)\n\nItems with (*) can be borrowed 
 from the club on Saturday morning. Climbing shoes can also be borrowed fro
 m the club but only on the regular Thursday gear night this week.\n\nIf yo
 u’re interested leave a comment with any climbing experience you have an
 d if you'd like to learn anything in particular on the trip (leading\, cle
 aning\, etc.). If you’ve got any questions\, feel free to message Henry\
 , Liam or myself on Facebook. See you there!
ATTACH;FMTTYPE=image/jpeg:https://unswoc.org/wordpress/wp-content/uploads/
 2021/02/FIGJAM.jpeg
CATEGORIES:Outdoor Climbing
END:VEVENT
BEGIN:VTIMEZONE
TZID:Australia/Sydney
X-LIC-LOCATION:Australia/Sydney
BEGIN:DAYLIGHT
DTSTART:20201004T030000
TZOFFSETFROM:+1000
TZOFFSETTO:+1100
TZNAME:AEDT
END:DAYLIGHT
END:VTIMEZONE
END:VCALENDAR