BEGIN:VCALENDAR
VERSION:2.0
PRODID:-//wp-events-plugin.com//7.2.3.1//EN
TZID:Australia/Sydney
X-WR-TIMEZONE:Australia/Sydney
BEGIN:VEVENT
UID:2347@unswoc.org
DTSTART;VALUE=DATE:20181124
DTEND;VALUE=DATE:20181125
DTSTAMP:20181120T004433Z
URL:https://unswoc.org/wordpress/events/bl-saturday-beginner-climbing-at-m
 ezzaluna/
SUMMARY:BL Saturday Beginner Climbing at Mezzaluna
DESCRIPTION:Jeffery and I will be leading a climbing trip to Mezzaluna in t
 he Blue Mountains on the Saturday of Boree Log.\n\nNo climbing experience 
 is required  we’ll set up top ropes. The easiest climbs are grade 15\, 
 there is a load of climbs from grade 15-20 with 19 routes in that range.\n
 \nWe will need 2 cars (i.e. 10 spots) to drive to and from the crag (depar
 ting from Dunphy’s campground)\, so please PM me (fb: Cameron Harkins) i
 f you can drive.\n\nWe will meet up at 8:00am on Saturday morning at Dunph
 y’s campground or you can meet us at the crag. Any gear that you require
  will be collected together on Saturday morning.\n\n 	Gear: harness\, hel
 met\, climbing shoes\, ATC + carabiner (can be borrowed\, but if you have 
 it bring it!).\n 	What to bring: sunscreen\, 2 l water\, food for the day
 \, sporty-warm clothes\,  backpack to fit all your stuff\, camera\, smile
 s etc.\n 	Meeting point: 8:00am at Boree Log.\n\nCam Harkins
ATTACH;FMTTYPE=image/jpeg:https://unswoc.org/wordpress/wp-content/uploads/
 2018/11/b967a4e0d6319f47933d3a1d370dc83568de712d.jpg
CATEGORIES:Outdoor Climbing
END:VEVENT
END:VCALENDAR