BEGIN:VCALENDAR
VERSION:2.0
PRODID:-//wp-events-plugin.com//7.2.3.1//EN
TZID:Australia/Sydney
X-WR-TIMEZONE:Australia/Sydney
BEGIN:VEVENT
UID:2115@unswoc.org
DTSTART;VALUE=DATE:20170401
DTEND;VALUE=DATE:20170402
DTSTAMP:20170331T025049Z
URL:https://unswoc.org/wordpress/events/bl-sat-boars-head-abseil/
SUMMARY:BL Sat - Malatia Point Abseil
DESCRIPTION:Hi :)\n\nI am leading an abseiling trip on the Saturday of Bore
 e Log. Suitable for beginners\n\nPM (on FB) with:\n\n	your previous abseil
 ing experience (if any)\n	What gear you already have\n	Whether you have a 
 car\n\nThings you will need to bring (you will be responsible for obtainin
 g this gear yourself):\n\n	harness\n	safety sling and locking binersX2\n	A
 TC (abseiling device) and locking biner\n	lunch and water in backpack\n	Wa
 rm clothing including rainproof/windproof jacket\n\nNicola
CATEGORIES:Boree Log
END:VEVENT
END:VCALENDAR