BEGIN:VCALENDAR
VERSION:2.0
PRODID:-//wp-events-plugin.com//7.2.3.1//EN
TZID:Australia/Sydney
X-WR-TIMEZONE:Australia/Sydney
BEGIN:VEVENT
UID:2873@unswoc.org
DTSTART;TZID=Australia/Sydney;VALUE=DATE:20210307
DTEND;TZID=Australia/Sydney;VALUE=DATE:20210308
DTSTAMP:20210303T094807Z
URL:https://unswoc.org/wordpress/events/bin-night-at-sunset-rock/
SUMMARY:Bin night at Sunset Rock
DESCRIPTION:           Bin chicken takes the bins out\n\n\nHow I 
 learned to stop climbing and be injured\nIt's clean up australia day this 
 sunday\, to make things a bit more interesting we're going to retrieve the
  wheelie bins someone has thrown off sunset rock lockout.\n\nThis will inv
 olve abseiling\, ascending\, hauling and rigging.\n\nSo that we can operat
 e efficiently it would be ideal if trip attendees have some experience wit
 h at least abseiling and being near heights.\n\nJust tell me why you're ke
 en and your experience in the comments and see you for a day of hanging ou
 t/taking out the trash.\n\n\n\n&nbsp\;\n\n&nbsp\;
ATTACH;FMTTYPE=image/jpeg:https://unswoc.org/wordpress/wp-content/uploads/
 2021/03/20210303_143220.jpg
CATEGORIES:Abseiling,Social Event
END:VEVENT
BEGIN:VTIMEZONE
TZID:Australia/Sydney
X-LIC-LOCATION:Australia/Sydney
BEGIN:DAYLIGHT
DTSTART:20201004T030000
TZOFFSETFROM:+1000
TZOFFSETTO:+1100
TZNAME:AEDT
END:DAYLIGHT
END:VTIMEZONE
END:VCALENDAR