BEGIN:VCALENDAR
VERSION:2.0
PRODID:-//wp-events-plugin.com//7.2.3.1//EN
TZID:Australia/Sydney
X-WR-TIMEZONE:Australia/Sydney
BEGIN:VEVENT
UID:648@unswoc.org
DTSTART:20141031T073000Z
DTEND:20141031T073000Z
DTSTAMP:20141030T185757Z
URL:https://unswoc.org/wordpress/events/biking-to-boree-log/
SUMMARY:Biking to Boree Log
DESCRIPTION:Damon and Laura ride to Boree Log. On bicycles! You can only co
 me if you are planning to ride around Mexico at the end of this year.  Kth
 x. 
CATEGORIES:Cycle Touring
END:VEVENT
END:VCALENDAR