BEGIN:VCALENDAR
VERSION:2.0
PRODID:-//wp-events-plugin.com//7.2.3.1//EN
TZID:Australia/Sydney
X-WR-TIMEZONE:Australia/Sydney
BEGIN:VEVENT
UID:3259@unswoc.org
DTSTART;TZID=Australia/Sydney;VALUE=DATE:20230521
DTEND;TZID=Australia/Sydney;VALUE=DATE:20230522
DTSTAMP:20230517T024104Z
URL:https://unswoc.org/wordpress/events/best-of-the-grose-sunday-day-hike/
SUMMARY:Best of the Grose - Sunday day hike
DESCRIPTION:Come see some of the best views the blue mountains has to offer
 ! Somehow Georgie and I (Daniel) have never gone to some of the most class
 ic spots in the blue mountains\, so we linked them up into a hike!\n\n[cap
 tion id="attachment_14903" align="aligncenter" width="450"] Photo: Tom Bre
 nnan[/caption]\n\n&nbsp\;\n\nWe'll start from Perry's lookdown and walk do
 wn to Govett's creek\, passing through the majestic Blue Gum Forest. We'll
  then cross the creek and head up through shortridge pass to Du Faur head 
 for some stunning views! From here we'll head on up to Lockleys Pylon for 
 panoramic views of the area. If time permits we may also visit the instagr
 am-worthy infinity rock pools at fortress falls. The whole day will be abo
 ut 12-15 km but with a lot of up and down.\n\n[caption id="attachment_1490
 4" align="aligncenter" width="1024"] Elevation profile from Perry's Lookdo
 wn to Lockleys Pylon[/caption]\n\n&nbsp\;\n\nWhat to bring:\n\n 	Clothes t
 o hike in\, we may be bush bashing at points\n 	At least 2L of water\n 	Fo
 od for the day (lunch\, plenty of snacks)\n\n&nbsp\;
CATEGORIES:Bushwalking,Hectic Hiking
END:VEVENT
BEGIN:VTIMEZONE
TZID:Australia/Sydney
X-LIC-LOCATION:Australia/Sydney
BEGIN:STANDARD
DTSTART:20230402T020000
TZOFFSETFROM:+1100
TZOFFSETTO:+1000
TZNAME:AEST
END:STANDARD
END:VTIMEZONE
END:VCALENDAR