BEGIN:VCALENDAR
VERSION:2.0
PRODID:-//wp-events-plugin.com//7.2.3.1//EN
TZID:Australia/Sydney
X-WR-TIMEZONE:Australia/Sydney
BEGIN:VEVENT
UID:2159@unswoc.org
DTSTART:20170804T210000Z
DTEND:20170805T110000Z
DTSTAMP:20170801T022257Z
URL:https://unswoc.org/wordpress/events/berowra-climbing-trip-saturday/
SUMMARY:Berowra Climbing Trip - Saturday
DESCRIPTION:Hey all\,\n\nBrendan and I will be running a beginner climbing 
 trip this Saturday to Berowra (Click here for info!)  Come join for some 
 great sport climbing\, maybe a bit of trad and a very easy walk-in that is
  close to Sydney. Places will be limited to 8 people.\n\nThis trip is suit
 able for:\n\n-People who can top-rope 16-18 indoors (no outdoor skills nec
 essary!)\n\n-People who would like to develop their lead climbing skills o
 utdoors\n\nWe will fill spots on a first come basis with a priority for th
 e above people - PLEASE COMMENT IN THE BOX IF YOU HAVE THESE. We will also
  need another car - so please also comment if you can provide some lifts t
 o and from the crag.\n\nWhat you will need:\n\n	Climbing shoes*\n	1 lockin
 g carabiners*\n	1 ATC/belay device*\n	Harness*\n	Helmet*\n	Chalk (optional
 )\n	Water (2L)\n	Lunch\n	Snacks to share around\n	Jacket - it may get cold
 \n	Sunscreen\n	Petrol money for your driver\n\n*Can be borrowed from the g
 ear cupboard for free (with a $10 deposit). See facebook for when it opens
  - usually wednesday night.\n\nSign up below and let us know if you have a
 ny questions. We will organise on facebook chat and carpool together. Leav
 ing uni at ~ 8am.\n\nUSE THE COMMENT BOX FOR SUITABILITY AND WHETHER YOU H
 AVE A CAR.\n\nSee you guys then!\n\nEamonn
CATEGORIES:Outdoor Climbing
END:VEVENT
END:VCALENDAR