BEGIN:VCALENDAR
VERSION:2.0
PRODID:-//wp-events-plugin.com//7.2.3.1//EN
TZID:Australia/Sydney
X-WR-TIMEZONE:Australia/Sydney
BEGIN:VEVENT
UID:2220@unswoc.org
DTSTART:20180316T200000Z
DTEND:20180316T200000Z
DTSTAMP:20180308T011126Z
URL:https://unswoc.org/wordpress/events/bell-creek-complete-boree-log-satu
 rday/
SUMMARY:Bell creek complete (Boree Log - Saturday)
DESCRIPTION:A loooong mission for the fit and experienced only.\n\n&nbsp\;
END:VEVENT
END:VCALENDAR