BEGIN:VCALENDAR
VERSION:2.0
PRODID:-//wp-events-plugin.com//7.2.3.1//EN
TZID:Australia/Sydney
X-WR-TIMEZONE:Australia/Sydney
BEGIN:VEVENT
UID:2171@unswoc.org
DTSTART:20170915T080000Z
DTEND:20170916T110000Z
DTSTAMP:20170914T103617Z
URL:https://unswoc.org/wordpress/events/bell-creek-canyon-yo/
SUMMARY:Bell Creek Canyon yo
DESCRIPTION:Hey y’all\, it seems canyoning season is upon us!\n\nDion an
 d I will be leading Bell Creek Canyon for beginners on Saturday 16th Sep (
 with camping Friday night).\n\nBell Creek is a super beautiful canyon (giv
 en a 10/10 rating on OzUltimate!)\, and an awesome place to start or conti
 nue your canyoning career. There are some tricky slippery scrambles and cl
 imb downs as well as a steep walk out\, so general fitness/coordination is
  required. We will be taking lilos in the the canyon to make things a litt
 le less chilly.\n\n&nbsp\;\n\nYOU WILL NEED:\n\nHelmet*\n\nWetsuit*\n\nDou
 ble layers of thermals &amp\; beanie (no cotton!)\n\nSocks (thick wool one
 s are best)\n\nHeadtorch\n\nDry bag if you have one (otherwise like 8 plas
 tic bags for your lunch to go in)\n\nRunners or volleys to get wet and hik
 e in for like 10hrs\n\n2L water bottle lunch and lots of chocolate\n\nIN A
 DDITION:\n\nTent*\n\nSleeping mat*\n\nSleeping bag*\n\nDinner/breakfast an
 d cooking implements\n\nWarm clothes. Like real warm. Like I'm be wearing 
 a wool sweater and two puffer jackets when camping.\n\n* = can borrow from
  UNSWOC on gear night\n\n&nbsp\;\n\n\nKeen to see you there!\n\n
CATEGORIES:Canyoning
END:VEVENT
END:VCALENDAR