BEGIN:VCALENDAR
VERSION:2.0
PRODID:-//wp-events-plugin.com//7.2.3.1//EN
TZID:Australia/Sydney
X-WR-TIMEZONE:Australia/Sydney
BEGIN:VEVENT
UID:2392@unswoc.org
DTSTART;VALUE=DATE:20190323
DTEND;VALUE=DATE:20190324
DTSTAMP:20190320T015839Z
URL:https://unswoc.org/wordpress/events/bell-creek-canyon-intermediate-can
 yon/
SUMMARY:SATURDAY BL: Bell Creek Canyon - Intermediate Canyon
DESCRIPTION:Alrighty\, here we have a canyon for the canyon connoisseurs ou
 t there\, probably one of the best canyons in the bluies! You must be atte
 nding Boree log to attend this trip. Aidan\, Jeffrey and I will be taking 
 you down Bell Creek\, which is one of the few 10/10 canyons in the mountai
 ns\, yet it feels untouched as it receives so little traffic. Be aware\, 
 this canyon comes at no easy cost\, you'll have to embark on a morning of 
 bush bashing with us! The canyon itself has jumps\, loooong dark constrict
 ions\, deep and cold swims. It doesn't have abseils\, so you don't need ex
 perience with that. It just has a few tricky scrambles and is a very long 
 and cold canyon which is why it is intermediate. If you are a very experie
 nced hiker with no canyoning experience\, that'll do. Otherwise\, if you'v
 e canyoned before - perfect!\n\nWhat to Bring:\n\n 	swimmers\n 	15-30L pa
 ck ideally with a hip/waist strap\n 	dry bags\n 	Enclosed shoes that can g
 et (volleys are best\, runners or watershoes will do)\n 	Wool socks\n 	The
 rmals (wool\,polypro or polyester)\n 	helmet *\n 	wetsuit *\n 	lilo* or p
 ool noodle\n 	old shorts to wear over your wetsuit\n 	space blanket (if yo
 u have one)\n 	water\n 	lunch\n 	snacks\n 	head torch\n 	dry shoes and clo
 thes for when you finish (you'll leave this at camp)\n 	rainjacket (optio
 nal\, but makes a difference if you feel the cold)\n\n*note* anything with
  a "*" you can borrow from the club\n\nYou'll need a reasonable level of f
 itness for this trip as it can be a long day\n\nYOU MUST BE A CONFIDENT SW
 IMMER TO ATTEND THIS TRIP\n\nIf you wear cotton\, you'll be left at the ca
 mpsite.\n\nWhen you sign up\, tell us your favourite canyon or hike in the
  comments section!
CATEGORIES:Boree Log,Canyoning,Hectic Hiking
END:VEVENT
END:VCALENDAR