BEGIN:VCALENDAR
VERSION:2.0
PRODID:-//wp-events-plugin.com//7.2.3.1//EN
TZID:Australia/Sydney
X-WR-TIMEZONE:Australia/Sydney
BEGIN:VEVENT
UID:3351@unswoc.org
DTSTART;TZID=Australia/Sydney:20231022T083000
DTEND;TZID=Australia/Sydney:20231022T183000
DTSTAMP:20231016T221634Z
URL:https://unswoc.org/wordpress/events/bell-creek-canyon-22-10-2023/
SUMMARY:Bell Creek Canyon - 22/10/2023
DESCRIPTION:Hi all!\n\nDaniel\, Emily and I (Maddi) are running a trip this
  Sunday to Bell Creek Canyon at Mt Wilson. Despite this canyon having no a
 bseils\, it will be a very long day (~10 hours)\, with lots of long\, cold
  swims\, scrambling and sliding around on wet rocks.\n\nParticipants need 
 to be competent swimmers\, good at handling cold water\, and prepared (men
 tally) for some long walks in and out of the canyon.\n\nInfo about the can
 yon can be found here!\n\nYou will need:\n\n 	To be keen and ready for 
 a long/cold day\n 	A headtorch\n 	A dry bag\n 	A backpack that can get wet
  to fit all your gear\n 	Wetsuit (5mm HIGHLY recommended)\n 	Thermals to w
 ear under your wetsuit (optional but highly recommended for extra toastine
 ss)\n 	Boardshorts to wear over your wetsuit (compulsory for club wetsuits
 )\n 	Rain jacket\n 	Spare thermals to keep dry\n 	Wool or neoprene socks\n
  	Shoes with grip\n 	Helmet\n 	An emergency blanket (can be bought from t
 he gear cupboard – $5)\n 	Any personal medication\n 	Food and water (at 
 least 1.5L)\n\nDO NOT BRING COTTON\n\nIf you have any questions give Danie
 l Gilbert\, Emily Dowling or Maddi Dunster a message on Facebook.\n\nAlso 
 please tell us if you have a car (and how many seats)\, some of your canyo
 ning experience\, as well as the coldest water you've ever experienced in 
 the comments so we know you’ve read this far!
CATEGORIES:Canyoning
LOCATION:https://maps.app.goo.gl/ur7oKtEu4VPf4yA17
END:VEVENT
BEGIN:VTIMEZONE
TZID:Australia/Sydney
X-LIC-LOCATION:Australia/Sydney
BEGIN:DAYLIGHT
DTSTART:20231001T030000
TZOFFSETFROM:+1000
TZOFFSETTO:+1100
TZNAME:AEDT
END:DAYLIGHT
END:VTIMEZONE
END:VCALENDAR