BEGIN:VCALENDAR
VERSION:2.0
PRODID:-//wp-events-plugin.com//7.2.3.1//EN
TZID:Australia/Sydney
X-WR-TIMEZONE:Australia/Sydney
BEGIN:VEVENT
UID:2137@unswoc.org
DTSTART;VALUE=DATE:20170402
DTEND;VALUE=DATE:20170403
DTSTAMP:20170329T062148Z
URL:https://unswoc.org/wordpress/events/beginnersintermediate-climbing-bor
 ee-log-sunday/
SUMMARY:Beginners/Intermediate climbing - Boree Log Sunday
DESCRIPTION:Note: You must be approved to attend Boree Log to come on this 
 trip.\n\nHey all\, Myself (Manon) and Chris will be running a Beginners/I
 ntermediate climbing trip on the Sunday of BL.\nWe will go and check out b
 ell supercrag! Come along if you have climbed before and can climb at leas
 t a 16 on top rope indoors.\nHaving a swim at Clarence dam in the arvo cou
 ld potentially happen.\n\nAll the special climbing gear will be provided b
 y the club\, just make sure you have the following:\n\n	comfy clothes (tig
 ht/stretchy clothes is a good go)\n	walking shoes\n	lunch\n	sunscreen/sunn
 ies\n\nIf you do have any gear of your own please bring it! This includes:
 \n\n	Climbing shoes\n	Harness\n	ATC (or other belay device)\n	Safety sling
 \n	Locking biners\n	Rope\n\nPLEASE MESSAGE ME IF YOU HAVE A CAR\n\nWe will
  need to drive there\, so please let me know on facebook (Manon Nyssen) if
  you have a car! very important.\n\n&nbsp\;
CATEGORIES:Outdoor Climbing
END:VEVENT
END:VCALENDAR