BEGIN:VCALENDAR
VERSION:2.0
PRODID:-//wp-events-plugin.com//7.2.3.1//EN
TZID:Australia/Sydney
X-WR-TIMEZONE:Australia/Sydney
BEGIN:VEVENT
UID:1972@unswoc.org
DTSTART:20160319T210000Z
DTEND:20160320T060000Z
DTSTAMP:20160316T010846Z
URL:https://unswoc.org/wordpress/events/beginners-trip-wollangambe-canyon-
 section-1/
SUMMARY:Beginners' Trip: Wollangambe Canyon (Section 1) - NOW FULL
DESCRIPTION:This is a beginners canyoning trip\, as part of Boree Log - tha
 t means you'll need to be signed up to Boree Log to join. This trip is li
 mited to 10 people - you do not need any canyoning or abseiling experienc
 e but you do need good fitness.\n\nWollangambe canyon (section 1) is a fun
  and relaxed lilo trip down a very nice section of wide canyon. We will a
 ccess the canyon from the Mt Wilson fire shed\, 5 minutes drive from our c
 ampsite at Cathedral Reserve. The day will start with a 45min walk-in\, th
 en a relaxed full day float down the river\, with some scrambling sections
  and jumps. About half-way through we will explore up the bottom of Water 
 Dragon canyon which is a beautiful narrow slot. Once we reach the exit poi
 nt at the end of the canyon\, we will have lunch. If we have time\, there
  is the option of exploring downstream to a great rock-jump spot and hidde
 n glow-worm cave. The walk out takes about 1.5hrs and is initially quite s
 teep. We will arrive back at the cars and head home from there.\n\nTo rea
 d more about the canyon visit: http://ozultimate.com/canyoning/track_note
 s/wollangambe_1.htm\n\nYou will need:\n\n	wetsuit\n	lilo (can be borrowed 
 from the club)\n	helmet (bike helmet is ok\, or the club should have some 
 spares that can be borrowed)\n	dry-bag\n	raincoat\n	enclosed shoes with go
 od grip when wet (e.g. Dunlop Volleys)\n	comfortable hiking clothes\n	head
  torch\n	thermals or fleece\n	drink bottle (at least 2L)\n	lunch and snack
 s (for the full day)\n\nI will organise all the group gear and if there's 
 something you don't have we will try to borrow it from the club.\n\nIf yo
 u have any questions\, feel free to email me at katielillyman2@gmail.com
CATEGORIES:Canyoning
END:VEVENT
END:VCALENDAR