BEGIN:VCALENDAR
VERSION:2.0
PRODID:-//wp-events-plugin.com//7.2.3.1//EN
TZID:Australia/Sydney
X-WR-TIMEZONE:Australia/Sydney
BEGIN:VEVENT
UID:3372@unswoc.org
DTSTART;TZID=Australia/Sydney:20240224T093000
DTEND;TZID=Australia/Sydney:20240224T190000
DTSTAMP:20240219T233633Z
URL:https://unswoc.org/wordpress/events/beginners-sport-climbing-upper-shi
 pley-24th-saturday-feb/
SUMMARY:FULL - BEGINNERS Sport Climbing Upper Shipley 24th Saturday FEB
DESCRIPTION:\n\n\n\n\nHi Keen people!\n\nPLEASE READ THE WHOLE DOCUMENT....
 \n\n\nThis coming Saturday\, the 24th\, (Gabriel (myself)\, Ryan\, and our
  TLIT Caitlin will be running a Beginners SPORT CLIMBING trip to Medlow Ba
 th\, in the Blue Mountains.\n\nWe can take a maximum of 10 participants\, 
 and it's first in\, first served.\n\n&nbsp\;\n\n\nIn the comments\, please
  indicate any gear you will need\, or have a car\, as well as your favouri
 te fruit\, and why it is better than the rest.\n\n\n&nbsp\;\n\n\nWe will w
 ork out carpooling/transporting in the group chat that you will be added t
 o when approved.\n\n&nbsp\;\n\nTrip Key Details:\nDate: Saturday - 24th/Fe
 b/2024\nMeeting Location:\nCentennial Glen Carpark\,\nCentennial Glen Rd\,
  Blackheath NSW 2785\nMeeting Time: 9:30am\nDeparture time\, Approx. 4pm\n
 &nbsp\;\n\nGear Required\,\n\n 	Water - At least 2L CRITICAL\n 	Food: lunc
 h\, snacks. CRITICAL\n 	Helmet*\n 	Harness*\n 	Belay device and a carabine
 r*\n 	Climbing shoes* (optional but highly recommended)\n 	Sunscreen + Sun
  Appropriate Clothing (HAT)\n\n&nbsp\;\n\nItems with an asterisk (*) can b
 e borrowed from the gear cupboard.\n\n\nOnce you have been approved for th
 e trip\, we can sort out any gear you may need.\n\n&nbsp\;\n\n\nGet Keen! 
 Did you read the whole document???? If so thank you :)\n\nby Gabriel\, Rya
 n and Caitlin.\n\n\n\n\n\n\n\n\n\n\n&nbsp\;\n\n\n\n\n\n\n\n\n&nbsp\;\n\n\n
 \n\n\n\n\n\n&nbsp\;\n\n\n\n\n\n\n\n\n&nbsp\;\n\n\n\n\n\n\n\n\n&nbsp\;\n\n\
 n\n\n\n\n\n\n\n\n\n\n\n\n\n\n
CATEGORIES:Outdoor Climbing
LOCATION:https://www.google.com/maps/place/Centennial+Glen+Carpark/@-33.633
 4408,150.2188033,13z/data=!4m10!1m2!2m1!1scentennial+glen!3m6!1s0x6b127272
 2334c271:0x3a170445f0dd4694!8m2!3d-33.6388351!4d150.2754888!15sCg9jZW50ZW5
 uaWFsIGdsZW6SARRwdWJsaWNfcGFya2luZ19zcGFjZeABAA!16s%2Fg%2F11hb8hs_66?entry
 =ttu
END:VEVENT
BEGIN:VTIMEZONE
TZID:Australia/Sydney
X-LIC-LOCATION:Australia/Sydney
BEGIN:DAYLIGHT
DTSTART:20231001T030000
TZOFFSETFROM:+1000
TZOFFSETTO:+1100
TZNAME:AEDT
END:DAYLIGHT
END:VTIMEZONE
END:VCALENDAR