BEGIN:VCALENDAR
VERSION:2.0
PRODID:-//wp-events-plugin.com//7.2.3.1//EN
TZID:Australia/Sydney
X-WR-TIMEZONE:Australia/Sydney
BEGIN:VEVENT
UID:2294@unswoc.org
DTSTART;VALUE=DATE:20181007
DTEND;VALUE=DATE:20181008
DTSTAMP:20181004T143803Z
URL:https://unswoc.org/wordpress/events/beginners-outdoor-climbing-trip/
SUMMARY:Beginners Outdoor Climbing Trip
DESCRIPTION:Beginners outdoor climbing trip this Sunday\, location TBC. No 
 outdoors experience is required but having climbed previously is desirable
  (ideally you can climb 17+).\n\nMessage me on facebook if you want to com
 e. Let me know whether you have a car and can give lifts and what your pre
 vious climbing experience is.  Preference will be given to those with a c
 ar and/or people we recognize from the ledge. We'll sort out gear\, transp
 ort and location once we know who's coming :)\n\nYou will need:\n\n 	Harne
 ss + locker carabiner + belay device (atc or grigri)\n 	Helmet\n 	Climbing
  shoes + chalk bag\n 	Water + food + chocolate.\n 	Warm clothes + good-gri
 p shoes to walk to the crag\n 	Rain jacket\n 	Head-torch\n\nThat's all for
  now!\n\nJenny\n\n&nbsp\;
CATEGORIES:Outdoor Climbing
END:VEVENT
END:VCALENDAR