BEGIN:VCALENDAR
VERSION:2.0
PRODID:-//wp-events-plugin.com//7.2.3.1//EN
TZID:Australia/Sydney
X-WR-TIMEZONE:Australia/Sydney
BEGIN:VEVENT
UID:706@unswoc.org
DTSTART;VALUE=DATE:20150314
DTEND;VALUE=DATE:20150315
DTSTAMP:20150309T042154Z
URL:https://unswoc.org/wordpress/events/beginners-hike-rodriguez-pass/
SUMMARY:BEGINNERS hike - Rodriguez pass
DESCRIPTION:WOOO HIKING!\n\nThis is one of my FAVOURITE hikes in the blue m
 ountains and I know you're going to love it too! This walk weaves it's  
 way down into the Gross valley\, revealing cliff walks\, amazing flora\, w
 aterfalls\, swims and much more! This 6-7 hour walk is one of the best way
 s to explore what the blue mountains has to offer!!\n\nOk\, down to busine
 ss.\n\nWHAT TO BRING:\n\n	WATER - Bring at least 2 Litres of water. Believ
 e me you'll need it! We pass a few rivers so if you're game you can refil
 l.\n	CLOTHING - Be logical!! You'll get hot hiking so wear light clothing.
  However you'll also want to bring a jumper in case the weather turns bad.
  Wear appropriate\, comfortable shoes like joggers or hiking shoes. A hat 
 is also a good idea.\n	SUNSCREEN - The Australian sun is brutal. You'll wa
 nt to reapply every few hours.\n	FOOD - You will need to bring lunch as we
 ll as a few snacks. we'll be doing a lot of exercise so you'll need food f
 or energy. Especially to get up the final stairs (\;\n	SWIMMERS - there ar
 e plenty of places to jump in and cool off.\n	HEAD TORCH - If you have one
  please bring it! We will almost definitely get out before dark but it's b
 etter to be safe than sorry.\n\nPLAN\n\n	We will be leaving the campsite a
 t 8:30 AM. If you are not ready to leave by then you will be left behind t
 o help cook (\;\nWe will be carpooling so if you have a car please bring i
 t as we'll need as many as we can get (:\n\nThat's pretty much it!! If you
  have any questions please feel free to text me\, email me or FB message m
 e (: Hope to see you all bright and early on Saturday!\nMatilda Barlow\n04
 08370536\nmatildae.b@hotmail.com
ATTACH;FMTTYPE=image/jpeg:https://unswoc.org/wordpress/wp-content/uploads/
 2015/03/GrandCanyonHeritageWalk.jpg
CATEGORIES:Bushwalking
LOCATION:Evan's lookout - Blackheath\, Evan's lookout Rd\, Blackheath\, NSW
 \, 2785\, Australia
GEO:-33.649307;150.302185
X-APPLE-STRUCTURED-LOCATION;VALUE=URI;X-ADDRESS=Evan's lookout Rd\, Blackhe
 ath\, NSW\, 2785\, Australia;X-APPLE-RADIUS=100;X-TITLE=Evan's lookout - B
 lackheath:geo:-33.649307,150.302185
END:VEVENT
END:VCALENDAR