BEGIN:VCALENDAR
VERSION:2.0
PRODID:-//wp-events-plugin.com//7.2.3.1//EN
TZID:Australia/Sydney
X-WR-TIMEZONE:Australia/Sydney
BEGIN:VEVENT
UID:704@unswoc.org
DTSTART;VALUE=DATE:20150328
DTEND;VALUE=DATE:20150329
DTSTAMP:20150325T054210Z
URL:https://unswoc.org/wordpress/events/beginners-hike-berowra-cowan/
SUMMARY:Beginners hike - Berowra to Cowan
DESCRIPTION:Hey guys!\n\nOn Saturday the 28th of March I will be running th
 e Berowra to Cowan hike\, which is a section of the Great North walk. This
  is an amazing hike which explores the ridges and valleys surrounding Bero
 wra waters. You will experience beautiful flora\, stunning views and maybe
  even a swim at lunch time (\;\n\nThe hike is 6 hours long and we'll be st
 arting at 10 AM and finishing around 4 PM\n\nYOU WILL NEED TO BRING:\n\n\n
 	Water! - You will need ATLEAST 2 Litres of water. There will also be a pl
 ace to refill halfway through the hike but bring 2L just in case!\n	Sunscr
 een - Australian sun is brutal. You will need to apply every 3 hours or so
 .\n	Hiking clothes - Be logical. Wear comfortable shoes like joggers or hi
 king shoes. Bring light clothes because you'll get hot hiking\, BUT also b
 ring a jumper in case of bad weather. Bring a hat.\n	Lunch and snacks - Al
 ong with lunch you'll probably want to bring two snacks. However\, if you 
 prefer\, there is a café at our lunchspot so you can buy your lunch. Stil
 l pack some snacks.\n	swimmers! - Our lunch spot will be next to a large s
 alt water lake and you don't have to but I will definitely go swimming!\n	
 Finally you'll need a backpack to carry all of these things.\n\nTRANSPORT:
 \n\n	TRAIN - the train we are catching will leave from Central station a
 t 8:45 AM from platform 12. YOU WILL NEED TO BE ATLEAST 10 MINUTES EARLY
 . I will be getting there at 8:30 and you should try to do the same. If yo
 u miss the train the next one will leave from platform 16 at 8:58 AM. If t
 his happens PLEASE CALL ME as your train will arrive at 10:07 and we'll ha
 ve to wait for you. (0408370536)\n	CAR -  If you'd prefer to drive we wil
 l be meeting at Berowra train station at 9:30 AM and leaving for the hike 
 at 10 AM. There is free  parking at the train station. If you are going t
 o be late PLEASE CALL ME as we'll have to wait for you. (0408370536)\n	RET
 URN - People are obviously returning to different places so you will have 
 to organise your own transport. We finish the hike at Cowan train station 
 which has trains to Central. I will be catching this train but departing b
 efore Central. To organise your public transport use the website www.sydne
 ytrains.info\n
ATTACH;FMTTYPE=image/jpeg:https://unswoc.org/wordpress/wp-content/uploads/
 2015/03/DSC00208.jpg
CATEGORIES:Bushwalking
LOCATION:Berowra Station\, Berowra Station\, Berowra\, NSW\, Australia
GEO:-33.623592;151.152634
X-APPLE-STRUCTURED-LOCATION;VALUE=URI;X-ADDRESS=Berowra Station\, Berowra\,
  NSW\, Australia;X-APPLE-RADIUS=100;X-TITLE=Berowra Station:geo:-33.623592
 ,151.152634
END:VEVENT
END:VCALENDAR