BEGIN:VCALENDAR
VERSION:2.0
PRODID:-//wp-events-plugin.com//7.2.3.1//EN
TZID:Australia/Sydney
X-WR-TIMEZONE:Australia/Sydney
BEGIN:VEVENT
UID:2771@unswoc.org
DTSTART;TZID=Australia/Sydney;VALUE=DATE:20201129
DTEND;TZID=Australia/Sydney;VALUE=DATE:20201130
DTSTAMP:20201125T015524Z
URL:https://unswoc.org/wordpress/events/beginners-geronimoooooooo-sunday/
SUMMARY:Beginners Geronimoooooooo! Sunday
DESCRIPTION:Hello y'all\,\n\nNadav and I (Nick) will be running a wander do
 wn GERONIMO canyon on Sunday the 29th.\n\nThis is described as an intermed
 iate canyon and more details about the canyon can be found here: https://o
 zultimate.com/canyoning/track_notes/geronimo.htm\n\nPlease prepare yoursel
 f with the following for this canyon: (* indicates available at the gear c
 upboard)\n\n 	Sling*\n 	ATC or FIGURE 8*\n 	3 x locking carabiner*\n 	Harn
 ess that fits you*\n 	Wetsuit*\n 	Boardshorts (to go over your wetsuit to 
 protect it)\n 	Helmet*\n 	Runners\n 	Backpack (20L to 40L) Enough to fit y
 our wetsuit in it as you may be carrying your wetsuit for part of the day.
 \n 	Lunch and snacks\n 	WOOLEN OR POLYESTER SOCKS\n 	Woolen or polyester s
 hirt (NO COTTON)\n 	Spare warm layer(s) inside a drybag.\n 	Drybag*\n 	Em
 ergency blanket (can be bought at the gear cupboard for $5)*\n 	A big smil
 e please\n\nAfter being accepted on this trip we will communicate with you
  via Facebook or your contact details on your UNSWOC profile. Acceptance f
 or this trip will be based solely on the quality of snack you're offering\
 , so let us know in the comments! We will not be organising car-pooling fo
 r this event due to COVID restrictions\, however some of us will be stayin
 g at Mt Wilson campground the night before.\n\nKeen to see y'all there!
END:VEVENT
BEGIN:VTIMEZONE
TZID:Australia/Sydney
X-LIC-LOCATION:Australia/Sydney
BEGIN:DAYLIGHT
DTSTART:20201004T030000
TZOFFSETFROM:+1000
TZOFFSETTO:+1100
TZNAME:AEDT
END:DAYLIGHT
END:VTIMEZONE
END:VCALENDAR