BEGIN:VCALENDAR
VERSION:2.0
PRODID:-//wp-events-plugin.com//7.2.3.1//EN
TZID:Australia/Sydney
X-WR-TIMEZONE:Australia/Sydney
BEGIN:VEVENT
UID:1459@unswoc.org
DTSTART:20150904T203000Z
DTEND:20150905T013000Z
DTSTAMP:20150904T055804Z
URL:https://unswoc.org/wordpress/events/beginners-for-beginners-bouldering
 -bbb/
SUMMARY:Beginners for Beginners Bouldering (BBB)
DESCRIPTION:Sup\,\n\nWanted to head out to Frontlines again ( a) I'm lazy a
 nd we went there last week\, b) there's a good range of problems there) an
 d do some more bouldering this Saturday (this will depend on the weather\,
  rain predicted for Thursday and a bit on Friday). I'm still a beginner (a
 nd aiming the trip at beginners)\, so everyone is welcome! If you have a 
 car or mats we can use\, please let me know!\n\nI will be driving but spac
 e might be limited if I'm taking club mats.\n\nSee the description below f
 or what to bring and how to get there (thanks Vicky!):\n\nWhat to bring:\n
 \n\n* Climbing shoes &amp\; chalk\n\n* Food\, snacks &amp\; water\n\n* Bou
 ldering mats if you have any \n\nGetting there:\n\n(By car) Frontlines is
  best accessed by car. I find it easiest to navigate to 4 Larra Crescent\,
  North Rocks\, and then walk down the path next to the house with a mini r
 ed fire truck out front. From there about 30m along there is a well worn p
 ath down the hill with a small creek on your right\, follow this path for 
 about 50m (past the barking dogs). When you hit the cliff-line turn left a
 nd scramble down wherever you please\, this is the Frontline area (directi
 ons courtesy of the Crag). Alternatively give me a buzz if you arrive at 
 a different time and I can come find you. Driving is probably the most con
 venient way to get to the crag.\n\n(By bus)\n\nAlternatively take a Hills 
 bus from Townhall to the M2 – Barclay Road Interchange bus stop and then
  it is a 15 minute walk. 131500.com is the best place to go to for bus num
 bers and times.\n\nTHE CLIMBS\n\nCheck out the Crag’s guide to the Front
 lines area to suss out all the climbs.\n\n&nbsp\;
CATEGORIES:Outdoor Climbing
LOCATION:\, \, 
X-APPLE-STRUCTURED-LOCATION;VALUE=URI;X-ADDRESS=\, ;X-APPLE-RADIUS=100;X-TI
 TLE=:geo:0,0
END:VEVENT
END:VCALENDAR