BEGIN:VCALENDAR
VERSION:2.0
PRODID:-//wp-events-plugin.com//7.2.3.1//EN
TZID:Australia/Sydney
X-WR-TIMEZONE:Australia/Sydney
BEGIN:VEVENT
UID:1508@unswoc.org
DTSTART:20151030T230000Z
DTEND:20151031T030000Z
DTSTAMP:20151027T140258Z
URL:https://unswoc.org/wordpress/events/beginners-climbing-wolgan/
SUMMARY:Beginners Climbing in the Wolgan.
DESCRIPTION:This trip is designed for people with little to no experience 
 climbing outdoors. The main aim of this trip is to build your confidence o
 n REAL ROCK as we introduce you to some climbing essentials.\n\nYou MUST 
 bring with you the following:\n\n	Harness\n	Climbing shoes\n	Belay device\
 n	Carabiner\n	Helmet\n	Chalk\n	Water\, lunch/snacks (as we will be out pas
 t lunch)\n\nWe will provide the other equipment.\n\nTrip Leaders: Peter Bu
 tcher\, Gabriella McDonald\, Alastair McDowell\, Luke Robbins\n\nIf you ha
 ve any questions message Gabriella on Facebook: https://www.facebook.com/
 Gabriella.McDonald92 \n\nSpaces will remain capped at 20 and you need to 
 be singed up to Boree Log to attend this trip.\n\n&nbsp\;
ATTACH;FMTTYPE=image/jpeg:https://unswoc.org/wordpress/wp-content/uploads/
 2015/10/52221-1000x800.jpg
CATEGORIES:Outdoor Climbing
LOCATION:Newnes Campground\, Wolgan Road\, Newnes\, NSW\, Australia
GEO:-33.174751;150.237030
X-APPLE-STRUCTURED-LOCATION;VALUE=URI;X-ADDRESS=Wolgan Road\, Newnes\, NSW\
 , Australia;X-APPLE-RADIUS=100;X-TITLE=Newnes Campground:geo:-33.174751,15
 0.237030
END:VEVENT
END:VCALENDAR