BEGIN:VCALENDAR
VERSION:2.0
PRODID:-//wp-events-plugin.com//7.2.3.1//EN
TZID:Australia/Sydney
X-WR-TIMEZONE:Australia/Sydney
BEGIN:VEVENT
UID:2110@unswoc.org
DTSTART;VALUE=DATE:20170401
DTEND;VALUE=DATE:20170402
DTSTAMP:20170328T112045Z
URL:https://unswoc.org/wordpress/events/beginners-climbing-trip-boree-log-
 saturday/
SUMMARY:Beginners Climbing Trip - Boree Log Saturday
DESCRIPTION:Abi\, Wen Jun\, Elliott\, Felix and I will be running a beginne
 rs climbing trip on the saturday of boree log.\n\nNo climbing experience? 
 No worries. We will head to Dam Cliffs\, a friendly place to meet real roc
 k for the first time. We will set up top ropes and the crag will look like
  an outdoor gym. It's also got a pretty sick deep water solo wall (where y
 ou climb above deep water without ropes/harnesses) so bring a towel if you
  want to have a go at that.\n\nAll the special climbing gear will be provi
 ded by the club\, just make sure you have the following:\n\n	comfy clothes
  (tight/stretchy clothes is a good go)\n	walking shoes\n	lunch\n	sunscreen
 /sunnies\n	towel (optional)\n\nIf you do have any gear of your own please 
 bring it! This includes:\n\n	Climbing shoes\n	Harness\n	ATC (or other bela
 y device)\n	Safety sling\n	Locking biners\n	Rope\n\nAlso - if you are an e
 xperienced climber\, maybe consider another trip and leave this trip for b
 eginners (:\n\nWe will need to drive there\, so please let me know on face
 book (mac labine-romain) if you have a car! very important.\n\nNote: you m
 ust be signed up to Boree Log to join this trip!
END:VEVENT
END:VCALENDAR