BEGIN:VCALENDAR
VERSION:2.0
PRODID:-//wp-events-plugin.com//7.2.3.1//EN
TZID:Australia/Sydney
X-WR-TIMEZONE:Australia/Sydney
BEGIN:VEVENT
UID:2027@unswoc.org
DTSTART;VALUE=DATE:20160604
DTEND;VALUE=DATE:20160605
DTSTAMP:20160531T170210Z
URL:https://unswoc.org/wordpress/events/beginners-climbing-trip-bangor-wes
 t/
SUMMARY:Beginners climbing trip - Bangor West
DESCRIPTION:Hey everyone :)\n\nWen Jun\, Vicky and I are running a beginner
 s climbing trip to Bangor West (in Sutherland) this Saturday. It is nice a
 nd close to the city\, and easily accessible :) We will be setting up top 
 ropes on climbs ranging from grades 14 to 18.\n\nhttps://www.thecrag.com/c
 limbing/australia/sutherland/area/13083847\n\nThere may be a car leaving f
 rom uni\, but be prepared to take public transport to the crag (It is a tr
 ain ride then walk/bus/cycle to a street called Arunta Close). More detail
 s to follow!\n\nThings to bring:\n\n	water\n	lunch\n	climbing shoes if you
  have them (otherwise sneakers or volleys\, or see if any club shoes fit y
 ou)\n	Warm clothing!\n\nPlease PM one of us to let us know what grade you 
 climb in the gym\n\nAnd let us know if you have any questions! :)\n\n&nbsp
 \;
CATEGORIES:Outdoor Climbing
END:VEVENT
END:VCALENDAR