BEGIN:VCALENDAR
VERSION:2.0
PRODID:-//wp-events-plugin.com//7.2.3.1//EN
TZID:Australia/Sydney
X-WR-TIMEZONE:Australia/Sydney
BEGIN:VEVENT
UID:2112@unswoc.org
DTSTART;VALUE=DATE:20170401
DTEND;VALUE=DATE:20170402
DTSTAMP:20170330T121732Z
URL:https://unswoc.org/wordpress/events/beginners-climbing-trip-2-boree-lo
 g-saturday/
SUMMARY:Beginners Climbing Trip (Bardens Lookout) - Boree Log Saturday
DESCRIPTION:Beginners climbing!!!\n\n\n\nJarrod\, Kat\, Anton and Maria wil
 l be running a trip to Bardens lookout. No climbing experience needed\, th
 is is a good chance to experience some friendly outdoor climbs.\n\nClimbin
 g equipment will be provided by the club. If you have shoes and or harness
  bring them along. Also bring the following:\n\n	comfy clothes (tight/stre
 tchy clothes is a good go)\n	walking shoes\n	lunch\n	sunscreen/sunnies\n\n
 &nbsp\;\n\nAlso - if you are an experienced climber\, maybe consider anoth
 er trip and leave this trip for beginners (:\n\nWe will need to drive ther
 e\, so please let Kat know on facebook (Kat Horton) if you have a car! ver
 y important.\n\nNote: you must be signed up to Boree Log to join this trip
 !\n\n- Liam
CATEGORIES:Boree Log,Outdoor Climbing
END:VEVENT
END:VCALENDAR