BEGIN:VCALENDAR
VERSION:2.0
PRODID:-//wp-events-plugin.com//7.2.3.1//EN
TZID:Australia/Sydney
X-WR-TIMEZONE:Australia/Sydney
BEGIN:VEVENT
UID:829@unswoc.org
DTSTART:20150418T210000Z
DTEND:20150419T060000Z
DTSTAMP:20150418T100031Z
URL:https://unswoc.org/wordpress/events/beginners-climbing-the-stables-pen
 nant-hills/
SUMMARY:Trip Full - Beginners Climbing - The Stables
DESCRIPTION:Hey y'all\,\n\nSaddle up for climbing at The Stables this Sunda
 y! Dion\, Jordan and I will be teaching and setting up top ropes for all y
 e beginners. Car pooling from uni leaving 8:30am or can shuttle from Penna
 nt Hills station.\n\nIf you're intermediate and want to come lead with you
 r own gear then by all means! Sign up and also message me so I add a space
  for a beginner.\n\n&nbsp\;\n\nGear you'll need\n\nCan be Borrowed from th
 e Club\n\n	Helmet\n	Climbing Shoes\n	Carabiner and Belay plate\n	Harness\n
 \nSort Yourself\n\n	Clothes\n	Food (Chocolate and Lollies make your trip l
 eaders happy)\n	1.5L of Water\n	Sunscreen\n	A big-ass smile\n\n&nbsp\;\n\n
 I'm on a horse\n\n&nbsp\;\n\nCheers\,\n\nBrendan\n\n&nbsp\;
ATTACH;FMTTYPE=image/jpeg:https://unswoc.org/wordpress/wp-content/uploads/
 2015/04/a9rp9h3cstoekdcnehmi.jpg
CATEGORIES:Outdoor Climbing
LOCATION:\, \, 
X-APPLE-STRUCTURED-LOCATION;VALUE=URI;X-ADDRESS=\, ;X-APPLE-RADIUS=100;X-TI
 TLE=:geo:0,0
END:VEVENT
END:VCALENDAR