BEGIN:VCALENDAR
VERSION:2.0
PRODID:-//wp-events-plugin.com//7.2.3.1//EN
TZID:Australia/Sydney
X-WR-TIMEZONE:Australia/Sydney
BEGIN:VEVENT
UID:848@unswoc.org
DTSTART;VALUE=DATE:20150510
DTEND;VALUE=DATE:20150511
DTSTAMP:20150506T021057Z
URL:https://unswoc.org/wordpress/events/beginners-climbing-sunday/
SUMMARY:Beginners Climbing - Sunday
DESCRIPTION:Hey hey :)\nManon and I will be running a beginners climbing tr
 ip this Sunday (10/05) at either Dam Cliffs or Shipley Upper (will confirm
  soon).\nEveryone is welcome\, however please PM me when you sign up so I 
 have an idea of your expereince and what grades you climb :)\nalso\, PM me
  if you have a car!!\n\nWe'll be limiting the trip to 8 people for now\, w
 ith everyone who is already signed up for crag care getting a confirmed sp
 ot (but you must message me by Thursday so I know you are coming!)\n\nThin
 gs to bring: \nharness\nshoes\nbelay device\nhelmet\nlunch\, water etc.\n\
 nYAAAAY Climbing! :)\n\n&lt\;3 Nicola and Manon
CATEGORIES:Outdoor Climbing
END:VEVENT
END:VCALENDAR