BEGIN:VCALENDAR
VERSION:2.0
PRODID:-//wp-events-plugin.com//7.2.3.1//EN
TZID:Australia/Sydney
X-WR-TIMEZONE:Australia/Sydney
BEGIN:VEVENT
UID:638@unswoc.org
DTSTART:20141023T230000Z
DTEND:20141024T040000Z
DTSTAMP:20141023T090414Z
URL:https://unswoc.org/wordpress/events/beginners-climbing-narrabean/
SUMMARY:Beginners Climbing Narrabean (Cancelled due to rain)
DESCRIPTION:Hey Peeps\,\nThere is a few of us going to climb at Narrabeen o
 n Friday for some easy to intermediate sport climbs. \nWe only have one ca
 r\, so I can take 2-3 people with me. But everyone is welcome if they have
  alternative transport.\n\nMake sure you bring\nFood/water\nHarness\nShoes
 \nHelmet\nSunblock/Repellent\n\nIf you have any questions just let me know
 .\n\n\nThere is some grades for everyone:\nhttp://www.thecrag.com/climbing
 /australia/northern-beaches/area/12010939\nThanks
CATEGORIES:Outdoor Climbing
LOCATION:Narrabean\, Sydney academy of sport and recreation\, Narrabean\, A
 ustralia
GEO:-33.718464;151.266281
X-APPLE-STRUCTURED-LOCATION;VALUE=URI;X-ADDRESS=Sydney academy of sport and
  recreation\, Narrabean\, Australia;X-APPLE-RADIUS=100;X-TITLE=Narrabean:g
 eo:-33.718464,151.266281
END:VEVENT
END:VCALENDAR