BEGIN:VCALENDAR
VERSION:2.0
PRODID:-//wp-events-plugin.com//7.2.3.1//EN
TZID:Australia/Sydney
X-WR-TIMEZONE:Australia/Sydney
BEGIN:VEVENT
UID:851@unswoc.org
DTSTART;VALUE=DATE:20150517
DTEND;VALUE=DATE:20150518
DTSTAMP:20150512T115027Z
URL:https://unswoc.org/wordpress/events/beginners-climbing-meadlow-bath/
SUMMARY:Beginners Climbing - Meadlow Bath
DESCRIPTION:Hey all\n\nI am running a beginner climbing trip this Sunday. I
  will aim to set up a number of top ropes. The more adventurous people can
  lead if they like\, but must be able to do so without supervision. We wil
 l be going to one of the meadlow bath crags. Transport will be by train. I
  will confirm the train time later\, but it think it leaves central at abo
 ut 7:20 and arrives at meadlow bath at 9:30.\n\nYou will need to collect t
 he following basic gear from the cupboard on wednesday night.\n\n	helmet\n
 	harness\n	belay device\n\nYou will also need to bring:\n\n	some water\n	s
 ome lunch\n	a bag to carry it all in\n\nI will likely meet you all on the 
 train (I live in blaxland) and i might ask the gear people to hand out som
 e ropes to people and bolt plates to people on Wednesday night too.
CATEGORIES:Outdoor Climbing
END:VEVENT
END:VCALENDAR