BEGIN:VCALENDAR
VERSION:2.0
PRODID:-//wp-events-plugin.com//7.2.3.1//EN
TZID:Australia/Sydney
X-WR-TIMEZONE:Australia/Sydney
BEGIN:VEVENT
UID:2250@unswoc.org
DTSTART;VALUE=DATE:20180506
DTEND;VALUE=DATE:20180507
DTSTAMP:20180501T074241Z
URL:https://unswoc.org/wordpress/events/beginners-climbing-at-mt-york/
SUMMARY:Beginners climbing at Mt York
DESCRIPTION:To aid your recovery from pubgaine on Friday\, Mac and I will b
 e running a beginners climbing trip to Mt York. There will be top roping a
 plenty\, and some instruction on leading. Plus good views out to the west 
 as you lower off.\n\nFor this trip you will need:\n\n 	Harness\n 	Climbing
  shoes\n 	Helmet\n 	Biner and sling\n 	Biner and ATC\n 	Food\, water\, sun
 screen\, what you normally take for a day out\n 	Cash for fuel and icecrea
 m\n 	Some hype\n\n
END:VEVENT
END:VCALENDAR